BEGIN:VCALENDAR
VERSION:2.0
PRODID:-//ChamberMaster//Event Calendar 2.0//EN
METHOD:PUBLISH
X-PUBLISHED-TTL:P3D
REFRESH-INTERVAL:P3D
CALSCALE:GREGORIAN
BEGIN:VEVENT
DTSTART:20151120T170000Z
DTEND:20151120T230000Z
X-MICROSOFT-CDO-ALLDAYEVENT:FALSE
SUMMARY:2015 Hispanic Business Expo & Holiday Showcase
DESCRIPTION:2015 Hispanic Business Expo & Holiday Showcase\n\n \n\nWe cordially invite you to participate in our first Business and Holiday Gift Expo\, which is designed to promote entrepreneurship and diversity\, while you enjoy a fun multicultural shopping day.\n\n \n\n Friday\, November 20th\n\nEmbassy Suites\n\n4700 Creedmoor Road\, \n\nRaleigh\, NC. 27612
X-ALT-DESC;FMTTYPE=text/html:<p align="center" style="margin: 0in 0in 0pt\; text-align: center\;"><br />\n<br />\n<span style="font-weight: bold\; language: en-US\;"><span style="color: red\;"><span style="font-family: lucida bright\;"><span style="font-size: 16pt\;">2015 Hispanic Business Expo &amp\; Holiday Showcase</span></span></span></span><br />\n&nbsp\;</p>\n\n<p align="center" style="margin: 0in 0in 0pt\; text-align: center\;"><span style="font-size: 14px\;"><span style="color: black\; font-family:\;">We cordially invite you to participate in our first Business and Holiday Gift Expo\, which is designed to promote entrepreneurship and diversity\, while you enjoy a fun multicultural shopping day.</span><br />\n&nbsp\;</span></p>\n\n<p align="center" style="margin: 0in 0in 0pt\; text-align: center\;"><span style="font-size: 14px\;"><span style="color: black\; font-family:\;" trebuchet="">&nbsp\;</span><span style="color: black\; font-family:\;">Friday\, November 20th</span></span></p>\n\n<p align="center" style="margin: 0in 0in 0pt\; text-align: center\;"><span style="font-size: 14px\;"><span style="color: black\; font-family:\;">Embassy Suites</span></span></p>\n\n<p align="center" style="margin: 0in 0in 0pt\; text-align: center\;"><span style="font-size: 14px\;"><span style="color: black\; font-family:\;">4700 Creedmoor Road\, </span></span></p>\n\n<p align="center" style="margin: 0in 0in 0pt\; text-align: center\;"><span style="font-size: 14px\;"><span style="color: black\; font-family:\;">Raleigh\, NC. 27612 </span></span></p>\n
LOCATION:Embassy Suites 4700 Creedmoor Road\, Raleigh\, NC. 27612
UID:e.1552.195
SEQUENCE:3
DTSTAMP:20260421T170301Z
URL:https://mobile.nchispanicchamber.org/events/details/2015-hispanic-business-expo-holiday-showcase-11-20-2015-195
END:VEVENT

END:VCALENDAR
