BEGIN:VCALENDAR
VERSION:2.0
PRODID:-//ChamberMaster//Event Calendar 2.0//EN
METHOD:PUBLISH
X-PUBLISHED-TTL:P3D
REFRESH-INTERVAL:P3D
CALSCALE:GREGORIAN
BEGIN:VEVENT
DTSTART:20150307T230000Z
DTEND:20150308T040000Z
X-MICROSOFT-CDO-ALLDAYEVENT:FALSE
SUMMARY:3rd Annual Latino Business Awards
DESCRIPTION:The North Carolina Hispanic Chamber of Commerce is hosting the Latino Business Awards\, March 7th at the City Club Raleigh. We want to celebrate the successes of Latino Entrepreneurship in our state.  \n\n\n\n\n\n\n\n3rd Annual Latino Business Awards\n\n\n\nSaturday\, March 7th\n\n\n\n6:00 to 11:00 pm\n\n\n\nCity Club Raleigh\n\n150 Fayetteville St.\, Suite 2800\n\nRaleigh\, NC 27601
X-ALT-DESC;FMTTYPE=text/html:<div style="text-align: center\;"><br />\n<span style="font-size: 12pt\;"><span style="font-family: lucida bright\,serif\;">T</span></span><span style="font-size: 12pt\;"><span style="font-family: arial\,sans-serif\;"><span style="color: rgb(65\, 65\, 65)\;">he </span></span></span><strong><span style="font-size: 12pt\;"><span style="font-family: arial\,sans-serif\;"><span style="color: rgb(0\, 101\, 152)\;">North Carolina Hispanic Chamber of Commerce</span></span></span></strong><span style="font-size: 12pt\;"><span style="font-family: arial\,sans-serif\;"><span style="color: rgb(65\, 65\, 65)\;"> is hosting the </span></span></span><strong><span style="font-size: 12pt\;"><span style="font-family: arial\,sans-serif\;"><span style="color: rgb(0\, 101\, 152)\;">Latino Business Awards\,</span></span></span></strong><span style="font-size: 12pt\;"><span style="font-family: arial\,sans-serif\;"><span style="color: rgb(65\, 65\, 65)\;"> March 7th at the City Club Raleigh. We want to celebrate the successes of Latino Entrepreneurship in our state. &nbsp\;</span></span></span><br />\n<br />\n<br />\n<br />\n<span style="font-size: 12pt\;"><span style="font-family: lucida bright\,serif\;">3rd Annual Latino Business Awards<br />\n<br />\nSaturday\, March 7th<br />\n<br />\n6:00 to 11:00 pm<br />\n<br />\nCity Club Raleigh<br />\n150 Fayetteville St.\, Suite 2800<br />\nRaleigh\, NC 27601</span></span></div>\n<br />\n&nbsp\;
LOCATION:City Club Raleigh 150 Fayetteville St.\, Suite 2800 Raleigh\, NC 27601
UID:e.1552.139
SEQUENCE:3
DTSTAMP:20260422T081450Z
URL:https://mobile.nchispanicchamber.org/events/details/3rd-annual-latino-business-awards-03-07-2015-139
END:VEVENT

END:VCALENDAR
