BEGIN:VCALENDAR
VERSION:2.0
PRODID:-//ChamberMaster//Event Calendar 2.0//EN
METHOD:PUBLISH
X-PUBLISHED-TTL:P3D
REFRESH-INTERVAL:P3D
CALSCALE:GREGORIAN
BEGIN:VEVENT
DTSTART:20160331T220000Z
DTEND:20160401T000000Z
X-MICROSOFT-CDO-ALLDAYEVENT:FALSE
SUMMARY:Annual meeting / Business after hours
DESCRIPTION:Annual meeting / Business after hours at Citrix
X-ALT-DESC;FMTTYPE=text/html:Annual meeting / Business after hours at Citrix<br />\n&nbsp\;
LOCATION:CITRIX 120 S West Raleigh\, NC 27603
UID:e.1552.207
SEQUENCE:3
DTSTAMP:20260421T095952Z
URL:https://mobile.nchispanicchamber.org/events/details/annual-meeting-business-after-hours-03-31-2016-207
END:VEVENT

END:VCALENDAR
