BEGIN:VCALENDAR
VERSION:2.0
PRODID:-//ChamberMaster//Event Calendar 2.0//EN
METHOD:PUBLISH
X-PUBLISHED-TTL:P3D
REFRESH-INTERVAL:P3D
CALSCALE:GREGORIAN
BEGIN:VEVENT
DTSTART:20150601T123000Z
DTEND:20150601T200000Z
X-MICROSOFT-CDO-ALLDAYEVENT:FALSE
SUMMARY:Basic English Grammar: Let's get it right!
DESCRIPTION:Perfeccione su ingles!\n\n\n\nRemember\, YOU represent your company and/or your employer to others.\n\nThe way you sound and the words you use matter! \n\n\n	Be clear\, concise\, confident\n	Be in control of your message\n	Make a good first impression\n\nOccasional grammar mistakes are forgiven\; regular mistakes can hurt your business and your career!\n\nThis one-day class will review Basic English grammar with a focus on the DANGER ZONES that can get you in trouble.\n\n\n\nThrough her company\, American English Right Now\, Helene Bumbalo teaches non-native English speakers in the Triangle how to effectively communicate in demanding work situations.\n\n \nHere is the page to register for it:\n\nwww.americanenglishrightnow.com
X-ALT-DESC;FMTTYPE=text/html:<span style="font-family: arial\;">Perfeccione</span><span style="font-family: arial\;"> su ingles!</span><br />\n<br />\n<span style="font-family: arial\;">Remember\, YOU represent your company and/or your employer to others.</span><br />\n<span style="font-family: arial\;">The way you sound and the words you use matter! </span>\n\n<ul>\n	<li style="font-family: Times New Roman\; font-size: 12pt\; margin-top: 0in\; margin-right: 0in\; margin-bottom: 12pt\;"><span style="font-size: 14px\;"><span style="font-family: arial\;">Be clear\, concise\, confident</span></span></li>\n	<li style="font-family: Times New Roman\; font-size: 12pt\; margin-top: 0in\; margin-right: 0in\; margin-bottom: 12pt\;"><span style="font-size: 14px\;"><span style="font-family: arial\;">Be in control of your message</span></span></li>\n	<li style="font-family: Times New Roman\; font-size: 12pt\; margin-top: 0in\; margin-right: 0in\; margin-bottom: 12pt\;"><span style="font-size: 14px\;"><span style="font-family: arial\;">Make a good first impression</span></span></li>\n</ul>\n<span style="font-family: arial\;">Occasional grammar mistakes are forgiven\; regular mistakes can hurt your business and your career!</span><br />\n<span style="font-family: arial\;">This one-day class will review Basic English grammar with a focus on the DANGER ZONES that can get you in trouble.</span><br />\n<br />\n<span style="font-family: arial\;">Through her company\, American English Right Now\, Helene Bumbalo teaches non-native English speakers in the Triangle how to effectively communicate in demanding work situations.</span><br />\n&nbsp\;\n<div style="text-align: center\;"><span style="font-family: arial\;">Here is the page to register for it:</span><br />\n<a href="http://www.americanenglishrightnow.com"><span style="font-family: arial\;">www.americanenglishrightnow.com</span></a></div>\n
LOCATION:5800 Faringdon Place Raleigh\, NC 27609
UID:e.1552.167
SEQUENCE:3
DTSTAMP:20260422T024604Z
URL:https://mobile.nchispanicchamber.org/events/details/basic-english-grammar-let-s-get-it-right-06-01-2015-167
END:VEVENT

END:VCALENDAR
