BEGIN:VCALENDAR
VERSION:2.0
PRODID:-//ChamberMaster//Event Calendar 2.0//EN
METHOD:PUBLISH
X-PUBLISHED-TTL:P3D
REFRESH-INTERVAL:P3D
CALSCALE:GREGORIAN
BEGIN:VEVENT
DTSTART;VALUE=DATE:20140913
DTEND;VALUE=DATE:20140914
TRANSP:TRANSPARENT
X-MICROSOFT-CDO-ALLDAYEVENT:TRUE
SUMMARY:BCBSNC Hosts Community Wellness Fair at Durham Central Park
DESCRIPTION:Blue Cross and Blue Shield of North Carolina (BCBSNC) invites Triangle residents to join area health experts for an afternoon of wellness\, fitness and fun. The educational and interactive fair is designed to share resources to encourage the community to be healthy and stay healthy. This event is free and open to the public.\n\n\n\nBCBSNC will be providing the following free services:\n\n\n	BMI\, glucose\, and blood pressure screening\n	Flu shots\n	Affordable Care Act (ACA) seminars in English and Spanish\n	Kid-friendly games and activities
X-ALT-DESC;FMTTYPE=text/html:<div style="text-align: center\;"><span style="font-family: georgia\,serif\;">Blue Cross and Blue Shield of North Carolina (BCBSNC) invites Triangle residents to join area health experts for an afternoon of wellness\, fitness and fun. </span><span style="background: white\;"><span style="font-family: georgia\,serif\;">The educational and interactive fair is designed to share resources to encourage the community to be healthy and stay healthy. </span></span><span style="font-family: georgia\,serif\;">This event is free and open to the public.</span><br />\n<br />\n<span style="font-size: 12px\;"><span style="font-family: times new roman\;"><span style="color: black\;">BCBSNC will be providing the following free services:</span></span></span></div>\n\n<ul>\n	<li style="background: white\;"><span style="font-size: 12px\;"><span style="font-family: times new roman\;"><span style="color: black\;">BMI\, glucose\, and blood pressure screening</span></span></span></li>\n	<li style="background: white\;"><span style="font-size: 12px\;"><span style="font-family: times new roman\;"><span style="color: black\;">Flu shots</span></span></span></li>\n	<li style="background: white\;"><span style="font-size: 12px\;"><span style="font-family: times new roman\;"><span style="color: black\;">Affordable Care Act (ACA) seminars in English and Spanish</span></span></span></li>\n	<li style="background: white\;"><span style="font-size: 12px\;"><span style="font-family: times new roman\;"><span style="color: black\;">Kid-friendly games and activities</span></span></span></li>\n</ul>\n
LOCATION:Durham Central Park 501 Foster St. Durham\, N.C.
UID:e.1552.117
SEQUENCE:3
DTSTAMP:20260424T192153Z
URL:https://mobile.nchispanicchamber.org/events/details/bcbsnc-hosts-community-wellness-fair-at-durham-central-park-09-13-2014-117
END:VEVENT

END:VCALENDAR
