BEGIN:VCALENDAR
VERSION:2.0
PRODID:-//ChamberMaster//Event Calendar 2.0//EN
METHOD:PUBLISH
X-PUBLISHED-TTL:P3D
REFRESH-INTERVAL:P3D
CALSCALE:GREGORIAN
BEGIN:VEVENT
DTSTART:20140513T220000Z
DTEND:20140514T003000Z
X-MICROSOFT-CDO-ALLDAYEVENT:FALSE
SUMMARY:Bilingual Home Buyer Workshop
DESCRIPTION:Seminario de Compra de Vivienda
X-ALT-DESC;FMTTYPE=text/html:Seminario de Compra de Vivienda
LOCATION:5800 Faringdon Place Raleigh\, NC 27609
UID:e.1552.94
SEQUENCE:3
DTSTAMP:20260425T013731Z
URL:https://mobile.nchispanicchamber.org/events/details/bilingual-home-buyer-workshop-05-13-2014-94
END:VEVENT

END:VCALENDAR
