BEGIN:VCALENDAR
VERSION:2.0
PRODID:-//ChamberMaster//Event Calendar 2.0//EN
METHOD:PUBLISH
X-PUBLISHED-TTL:P3D
REFRESH-INTERVAL:P3D
CALSCALE:GREGORIAN
BEGIN:VEVENT
DTSTART:20150605T130000Z
DTEND:20150605T170000Z
X-MICROSOFT-CDO-ALLDAYEVENT:FALSE
SUMMARY:Bilingual Job Fair
DESCRIPTION:Bilingual Job Fair - Greensboro\n\n\n\nFriday\, June 5\, 2015\n\nClarion Hotel Airport\n\n415 Swing Road\n\nGreensboro\, NC 27409\n\n\n\nThis is a free Job Fair for job seekers.\n\n\n\n\n\nSponsorships and exhibit table are available\n\nMake your reservation Today!\n\nleonor@nchispanicchamber.org
X-ALT-DESC;FMTTYPE=text/html:<p align="center" class="nowrapimagewrapper" style="margin: 0in 0in 0pt\; text-align: center\;"><br />\n<span style="font-size: 16px\;"><strong><span style="font-family: tahoma\;"><span style="color: rgb(0\, 0\, 0)\;"><span trebuchet="">Bilingual Job Fair - Greensboro</span></span></span></strong></span></p>\n\n<p align="center" class="nowrapimagewrapper" style="margin: 0in 0in 0pt\; text-align: center\;"><br />\n<span style="font-family: tahoma\;"><span style="font-size: 16px\;"><span style="color: rgb(0\, 0\, 0)\;"><span trebuchet="">Friday\, June 5\, 2015<br />\nClarion Hotel Airport<br />\n415 Swing Road<br />\nGreensboro\, NC 27409</span></span></span></span><br />\n<br />\n<span style="font-family: tahoma\;"><span style="font-size: 16px\;"><span style="color: rgb(0\, 0\, 0)\;"><span trebuchet="">This is a free Job Fair for job seekers.<br />\n<br />\n<br />\n<strong>Sponsorships and exhibit table are available</strong></span><br />\n<strong><span trebuchet="">Make your reservation Today!</span></strong></span><br />\n<span new="" times="" trebuchet=""><a href="mailto:leonor@nchispanicchamber.org"><span style="color: rgb(0\, 0\, 0)\;">leonor@nchispanicchamber.org</span></a></span></span></span></p>\n
LOCATION:Clarion Hotel Airport 415 Swing Road Greensboro\, NC 27409
UID:e.1552.164
SEQUENCE:3
DTSTAMP:20260422T030300Z
URL:https://mobile.nchispanicchamber.org/events/details/bilingual-job-fair-06-05-2015-164
END:VEVENT

END:VCALENDAR
