BEGIN:VCALENDAR
VERSION:2.0
PRODID:-//ChamberMaster//Event Calendar 2.0//EN
METHOD:PUBLISH
X-PUBLISHED-TTL:P3D
REFRESH-INTERVAL:P3D
CALSCALE:GREGORIAN
BEGIN:VEVENT
DTSTART:20151016T130000Z
DTEND:20151016T170000Z
X-MICROSOFT-CDO-ALLDAYEVENT:FALSE
SUMMARY:Bilingual Job Fair
DESCRIPTION:Bilingual Job Fair - Durham \n\n\n\nFriday\, October 16\, 2015\n\n\n\nThis is a free Job Fair for job seekers.\n\n\n\n\n\nSponsorships and exhibit table are available\n\nMake your reservation Today!\n\nleonor@nchispanicchamber.org
X-ALT-DESC;FMTTYPE=text/html:<p align="center" class="nowrapimagewrapper" style="margin: 0in 0in 0pt\; text-align: center\;"><br />\n<span style="font-size: 16px\;"><strong><span style="font-family: tahoma\;"><span style="color: rgb(0\, 0\, 0)\;"><span trebuchet="">Bilingual Job Fair - Durham&nbsp\;</span></span></span></strong></span></p>\n\n<p align="center" class="nowrapimagewrapper" style="margin: 0in 0in 0pt\; text-align: center\;"><br />\n<span style="font-family: tahoma\;"><span style="font-size: 16px\;"><span style="color: rgb(0\, 0\, 0)\;"><span trebuchet="">Friday\, October 16\, 2015<br />\n<br />\nThis is a free Job Fair for job seekers.<br />\n<br />\n<br />\n<strong>Sponsorships and exhibit table are available</strong></span><br />\n<strong><span trebuchet="">Make your reservation Today!</span></strong></span><br />\n<span new="" times="" trebuchet=""><a href="mailto:leonor@nchispanicchamber.org"><span style="color: rgb(0\, 0\, 0)\;">leonor@nchispanicchamber.org</span></a></span></span></span></p>\n
LOCATION:The Research Triangle Park 12 Davis Drive RTP\, NC 27709
UID:e.1552.161
SEQUENCE:3
DTSTAMP:20260421T185350Z
URL:https://mobile.nchispanicchamber.org/events/details/bilingual-job-fair-10-16-2015-161
END:VEVENT

END:VCALENDAR
