BEGIN:VCALENDAR
VERSION:2.0
PRODID:-//ChamberMaster//Event Calendar 2.0//EN
METHOD:PUBLISH
X-PUBLISHED-TTL:P3D
REFRESH-INTERVAL:P3D
CALSCALE:GREGORIAN
BEGIN:VEVENT
DTSTART:20140516T130000Z
DTEND:20140516T170000Z
X-MICROSOFT-CDO-ALLDAYEVENT:FALSE
SUMMARY:Bilingual Job Fair & Business Expo
DESCRIPTION:Bilingual Job Fair\n\n	Business Expo\n\n	\n\n	Friday\, May 16\, 2014\n\n	\n\n	Hilton North Raleigh/Midtown\n\n	3415 Wake Forest Road\n\n	Raleigh\, NC 27609\n\n	 \n\n	Make your reservation Today!\n\n	leonor@nchispanicchamber.org
X-ALT-DESC;FMTTYPE=text/html:<p align="center" class="nowrapimagewrapper" style="margin: 0in 0in 0pt\; text-align: center\;">\n	<span style="font-size: 16px\;"><strong><span style="color: black\; font-family: \;" trebuchet="">Bilingual Job Fair</span></strong></span></p>\n<p align="center" class="nowrapimagewrapper" style="margin: 0in 0in 0pt\; text-align: center\;">\n	<span style="font-size: 16px\;"><strong><span style="color: black\; font-family: \;" trebuchet="">Business Expo</span></strong></span><br />\n	<br />\n	<span style="color: black\; font-family: \;" trebuchet="">Friday\, May 16\, 2014</span></p>\n<p align="center" style="margin: 0in 0in 0pt\; text-align: center\;">\n	<br />\n	<span style="color: black\; font-family: \;" trebuchet="">Hilton North Raleigh/Midtown<br />\n	3415 Wake Forest Road<br />\n	Raleigh\, NC 27609</span><br />\n	&nbsp\;</p>\n<div style="text-align: center\;">\n	<font color="#000000"><strong><span style="color: black\; font-family: \;" trebuchet="">Make your reservation Today!</span></strong></font><br />\n	<span new="" style="color: black\; font-family: \;" times="" trebuchet=""><a href="mailto:leonor@nchispanicchamber.org"><font color="#0000ff">leonor@nchispanicchamber.org</font></a></span></div>\n
LOCATION:Hilton North Raleigh/Midtown 3415 Wake Forest Road Raleigh\, NC 27609
UID:e.1552.88
SEQUENCE:3
DTSTAMP:20260425T021126Z
URL:https://mobile.nchispanicchamber.org/events/details/bilingual-job-fair-business-expo-05-16-2014-88
END:VEVENT

END:VCALENDAR
