BEGIN:VCALENDAR
VERSION:2.0
PRODID:-//ChamberMaster//Event Calendar 2.0//EN
METHOD:PUBLISH
X-PUBLISHED-TTL:P3D
REFRESH-INTERVAL:P3D
CALSCALE:GREGORIAN
BEGIN:VEVENT
DTSTART;VALUE=DATE:20150620
DTEND;VALUE=DATE:20150621
TRANSP:TRANSPARENT
X-MICROSOFT-CDO-ALLDAYEVENT:TRUE
SUMMARY:Bringing You Home
DESCRIPTION:Triangle Neighbors\, you're invited!\n\n\n\nBringing You Home\n\n\n\nPNC Mortgage presents\n\nA workshop to help you take the\n\nfirst steps toward homeownership\n\n\n\nLearn how you ca achieve homeownership\n\n\n\nPlease join us for a complimentary home buyers\n\nworkshop\, which includes lunch and a drawing for a\n\n$1\,000 Lowe's gift card.\n\n\n\nGeneral Session\n\n\n\nHear from your Triangle area neighbors about their recent\n\nhome buying experience. Gain insight on home buying\,\n\nfinancing and pre-approval processes\, and learn why\n\nnow may be the best time to buy a home.\n\n\n\nREAL ESTATE SHOW CASE\n\nMeet local real estate agents and see affordable\, available\n\nlocal homes.\n\n\n\nWorking lunch Topics\n\n Special Programs to Make Homeownership.\n\nAffordable: Learn about the PNC Homeownership\n\nGrant\, mortgage discounts and other programs.\n\n\n\n Buying a 'Fixer-Upper': Discover the benefits of\n\nbuying a home in need of repairs.
X-ALT-DESC;FMTTYPE=text/html:Triangle Neighbors\, you&rsquo\;re invited!<br />\n<br />\nBringing You Home<br />\n<br />\nPNC Mortgage presents<br />\nA workshop to help you take the<br />\nfirst steps toward homeownership<br />\n<br />\nLearn how you ca achieve homeownership<br />\n<br />\nPlease join us for a complimentary home buyers<br />\nworkshop\, which includes lunch and a drawing for a<br />\n$1\,000 Lowe&rsquo\;s gift card.<br />\n<br />\nGeneral Session<br />\n<br />\nHear from your Triangle area neighbors about their recent<br />\nhome buying experience. Gain insight on home buying\,<br />\nfinancing and pre-approval processes\,&nbsp\;and learn why<br />\nnow may be the best time to buy a home.<br />\n<br />\nREAL ESTATE SHOW CASE<br />\nMeet local real estate agents and see affordable\, available<br />\nlocal homes.<br />\n<br />\nWorking lunch Topics<br />\n&bull\;Special Programs to Make Homeownership.<br />\nAffordable: Learn about the PNC Homeownership<br />\nGrant\, mortgage discounts and other programs.<br />\n<br />\n&bull\;Buying a &lsquo\;Fixer-Upper&rsquo\;: Discover the benefits of<br />\nbuying a home in need of repairs.<br />\n&nbsp\;
LOCATION:Embassy Suites at the Raleigh-Durham Airport/ Brier Creek Hotel 8001 Arco Corporate Dr. Raleigh\, NC 27617
UID:e.1552.182
SEQUENCE:3
DTSTAMP:20260422T023024Z
URL:https://mobile.nchispanicchamber.org/events/details/bringing-you-home-06-20-2015-182
END:VEVENT

END:VCALENDAR
