BEGIN:VCALENDAR
VERSION:2.0
PRODID:-//ChamberMaster//Event Calendar 2.0//EN
METHOD:PUBLISH
X-PUBLISHED-TTL:P3D
REFRESH-INTERVAL:P3D
CALSCALE:GREGORIAN
BEGIN:VEVENT
DTSTART:20140123T223000Z
DTEND:20140124T003000Z
X-MICROSOFT-CDO-ALLDAYEVENT:FALSE
SUMMARY:Business After Hours
DESCRIPTION:Looking to get more connected and expand your network in 2014?\n\n \n\nStart the New Year off right by networking with Latino professionals and business owners! Whether you have attended one of our events in the past or are interested in learning more about become a new member this year\, plan to join us for Business After Hours networking event! This event is free to attend ONLY FOR MEMBERS -- your RSVP is requested.\n\n\n\nEnjoy good conversations! Light refreshments will be served. Please bring your business cards.
X-ALT-DESC;FMTTYPE=text/html:<span style="font-size:18px\;"><strong><span style="font-family: lucida bright\;">Looking to get more connected and expand your network in 2014?</span></strong></span><br />\n&nbsp\;<br />\n<span style="font-family:lucida bright\;">Start the New Year off right by networking with Latino professionals and business owners! Whether you have attended one of our events in the past or are interested in learning more about become a new member this year\, plan to join us for Business After Hours networking event! This event is free to attend ONLY FOR MEMBERS -- your RSVP is requested.<br />\n<br />\nEnjoy good conversations! Light refreshments will be served. Please bring your business cards.</span>
LOCATION:Latin Quarters Restaurant 7335 Six Forks Rd Raleigh\, NC 27615 United States
UID:e.1552.81
SEQUENCE:3
DTSTAMP:20260425T102437Z
URL:https://mobile.nchispanicchamber.org/events/details/business-after-hours-01-23-2014-81
END:VEVENT

END:VCALENDAR
