BEGIN:VCALENDAR
VERSION:2.0
PRODID:-//ChamberMaster//Event Calendar 2.0//EN
METHOD:PUBLISH
X-PUBLISHED-TTL:P3D
REFRESH-INTERVAL:P3D
CALSCALE:GREGORIAN
BEGIN:VEVENT
DTSTART:20150225T230000Z
DTEND:20150226T010000Z
X-MICROSOFT-CDO-ALLDAYEVENT:FALSE
SUMMARY:Business After Hours
DESCRIPTION:Due to the Winter Storm Warning this event has been canceled\n\n\n\nBusiness After Hours\n\nOld Havana Sandwich Shop LLC\n\n \n\nWednesday\, February 25th.\n\n6:00 to 8:00 pm\n\n \n\n310 E Main St.\n\nDurham\, NC 27701\n\n \n\nBring a friend and join us!
X-ALT-DESC;FMTTYPE=text/html:<div style="text-align: center\;"><strong><span style="font-size:14px\;"><span style="font-family: tahoma\;"><span style="color: rgb(255\, 0\, 0)\;">Due to the Winter Storm Warning this event has been canceled</span></span></span></strong><br />\n<br />\n<span style="font-size: 10.5pt\;"><span style="font-family: trebuchet ms\,sans-serif\;"><span style="color: black\;">Business After Hours<br />\nOld Havana Sandwich Shop LLC</span></span></span><br />\n&nbsp\;<br />\n<span style="font-size: 10.5pt\;"><span style="font-family: trebuchet ms\,sans-serif\;"><span style="color: black\;">Wednesday\, February 25th.<br />\n6:00 to 8:00 pm</span></span></span><br />\n&nbsp\;<br />\n<span style="font-size: 10.5pt\;"><span style="font-family: trebuchet ms\,sans-serif\;"><span style="color: black\;">310 E Main St.<br />\nDurham\, NC 27701</span></span></span><br />\n&nbsp\;<br />\n<span style="font-size: 10.5pt\;"><span style="font-family: trebuchet ms\,sans-serif\;"><span style="color: black\;">Bring a friend and join us!</span></span></span></div>\n
LOCATION:Old Havana Sandwich Shop 310 E Main St. Durham\, NC 27701
UID:e.1552.143
SEQUENCE:3
DTSTAMP:20260422T095023Z
URL:https://mobile.nchispanicchamber.org/events/details/business-after-hours-02-25-2015-143
END:VEVENT

END:VCALENDAR
