BEGIN:VCALENDAR
VERSION:2.0
PRODID:-//ChamberMaster//Event Calendar 2.0//EN
METHOD:PUBLISH
X-PUBLISHED-TTL:P3D
REFRESH-INTERVAL:P3D
CALSCALE:GREGORIAN
BEGIN:VEVENT
DTSTART:20130523T220000Z
DTEND:20130524T000000Z
X-MICROSOFT-CDO-ALLDAYEVENT:FALSE
SUMMARY:Business After Hours
DESCRIPTION:Business After Hours\n\nFood\, New Contacts & Fun!\n\nA Great way to promote your business!\n\n\n\nDon't forget to RSVP for yourself and any guests who would like to attend!
X-ALT-DESC;FMTTYPE=text/html:<strong>Business After Hours</strong><br />\nFood\, New Contacts &amp\; Fun!<br />\nA Great way to promote your business!<br />\n<br />\nDon&#39\;t forget to RSVP for yourself and any guests who would like to attend!<br />\n&nbsp\;
LOCATION:Chamas Churrascaria 905 W Main St #115 Durham\, NC 27701
UID:e.1552.62
SEQUENCE:3
DTSTAMP:20260426T000056Z
URL:https://mobile.nchispanicchamber.org/events/details/business-after-hours-05-23-2013-62
END:VEVENT

END:VCALENDAR
