BEGIN:VCALENDAR
VERSION:2.0
PRODID:-//ChamberMaster//Event Calendar 2.0//EN
METHOD:PUBLISH
X-PUBLISHED-TTL:P3D
REFRESH-INTERVAL:P3D
CALSCALE:GREGORIAN
BEGIN:VEVENT
DTSTART:20200226T230000Z
DTEND:20200227T010000Z
X-MICROSOFT-CDO-ALLDAYEVENT:FALSE
SUMMARY:Business After Hours - BB&t
DESCRIPTION:
X-ALT-DESC;FMTTYPE=text/html:
LOCATION:505 S Duke Street\, Durham NC 27701
UID:e.1552.907
SEQUENCE:3
DTSTAMP:20260421T082521Z
URL:https://mobile.nchispanicchamber.org/events/details/business-after-hours-bb-t-907
END:VEVENT

END:VCALENDAR
