BEGIN:VCALENDAR
VERSION:2.0
PRODID:-//ChamberMaster//Event Calendar 2.0//EN
METHOD:PUBLISH
X-PUBLISHED-TTL:P3D
REFRESH-INTERVAL:P3D
CALSCALE:GREGORIAN
BEGIN:VEVENT
DTSTART:20130425T213000Z
DTEND:20130425T233000Z
X-MICROSOFT-CDO-ALLDAYEVENT:FALSE
SUMMARY:Business After Hours - Fayetteville
DESCRIPTION:Business After Hours\n\n	\n\n	Evento de Negocios Celebrando Nuestros Emprendedores en Fayetteville!\n\n	\n\n	Delicious Mexican food\, and excellent networking opportunities!!\n\n	\n\n	 \n\n	Sponsored By\n\n	PCN
X-ALT-DESC;FMTTYPE=text/html:<p style="text-align: center\; padding-bottom: 0px\; padding-left: 0px\; padding-right: 0px\; padding-top: 0px">\n	<br />\n	<span style="font-size: 14px">&nbsp\;</span></p>\n<p style="text-align: center\; padding-bottom: 0px\; padding-left: 0px\; padding-right: 0px\; padding-top: 0px">\n	<span style="font-size: 14px"><span style="font-size: 15px"><strong><span style="color: #eb4015">Business After Hours</span></strong></span></span></p>\n<p style="text-align: center\; padding-bottom: 0px\; padding-left: 0px\; padding-right: 0px\; padding-top: 0px">\n	<br />\n	<span style="font-size: 14px">Evento de Negocios Celebrando Nuestros Emprendedores en Fayetteville!<br />\n	<br />\n	<span style="font-size: 12px">Delicious Mexican food\, and excellent networking opportunities!!</span></span><br />\n	<br />\n	&nbsp\;</p>\n<p style="text-align: center\; padding-bottom: 0px\; padding-left: 0px\; padding-right: 0px\; padding-top: 0px">\n	<span style="font-size: 14px"><span style="font-size: 12px"><strong>Sponsored By</strong></span></span></p>\n<p style="text-align: center\; padding-bottom: 0px\; padding-left: 0px\; padding-right: 0px\; padding-top: 0px">\n	<span style="font-size: 16px"><strong>PCN</strong></span></p>\n<p style="text-align: center\; padding-bottom: 0px\; padding-left: 0px\; padding-right: 0px\; padding-top: 0px">\n	<br />\n	&nbsp\;</p>\n
LOCATION:Monterrey Mexican Restaurant 173 Westwood Shopping Ctr\, Fayetteville\, NC 28314
UID:e.1552.55
SEQUENCE:3
DTSTAMP:20260426T024543Z
URL:https://mobile.nchispanicchamber.org/events/details/business-after-hours-fayetteville-04-25-2013-55
END:VEVENT

END:VCALENDAR
