BEGIN:VCALENDAR
VERSION:2.0
PRODID:-//ChamberMaster//Event Calendar 2.0//EN
METHOD:PUBLISH
X-PUBLISHED-TTL:P3D
REFRESH-INTERVAL:P3D
CALSCALE:GREGORIAN
BEGIN:VEVENT
DTSTART:20130822T220000Z
DTEND:20130823T000000Z
X-MICROSOFT-CDO-ALLDAYEVENT:FALSE
SUMMARY:Business After Hours Greensboro
DESCRIPTION:Amigos en Greensboro\n\n	\n\n	"Join the Chamber\, come and do good business!"\n\n	 \n\n	Meet other Hispanic Business owners in the area\n\n	Promote your products / services with other guests\n\n	Get leads for your sales team to follow-up on\n\n	 \n\n	 \n\n	" nete a la C mara y ven hacer buenos negocios!"\n\n	 \n\n	Conoce a otros due os de negocios hispanos en el  rea. \n\n	Ven a promover tus productos / servicios con otros socios\n\n	Tambien podras conocer  nuevos clientes.\n\n	\n\n	\n\n	\n\n	Sponsored by \n\n	La Ley 101.1 & Clarion Hotel Greensboro
X-ALT-DESC;FMTTYPE=text/html:<div style="text-align: center">\n	<span style="font-size: 10.5pt"><span style="color: black"><span style="font-family: calibri\, sans-serif"><span style="font-family: calibri">Amigos en Greensboro<br />\n	<br />\n	<span style="font-size: 10.5pt"><span style="color: black"><span style="font-family: calibri\, sans-serif">&ldquo\;Join the Chamber\, come and do good business!&rdquo\;</span></span></span><br />\n	&nbsp\;<br />\n	<span style="font-size: 10.5pt"><span style="color: black"><span style="font-family: calibri\, sans-serif">Meet other Hispanic Business owners in the area</span></span></span><br />\n	<span style="font-size: 10.5pt"><span style="color: black"><span style="font-family: calibri\, sans-serif">Promote your products / services with other guests</span></span></span><br />\n	<span style="font-size: 10.5pt"><span style="color: black"><span style="font-family: calibri\, sans-serif">Get leads for your sales team to follow-up on</span></span></span><br />\n	&nbsp\;<br />\n	&nbsp\;<br />\n	<span style="font-size: 10.5pt"><span style="color: black"><span style="font-family: calibri\, sans-serif">&quot\;&Uacute\;nete a la C&aacute\;mara y ven hacer buenos negocios!&quot\;</span></span></span><br />\n	&nbsp\;<br />\n	<span style="font-size: 10.5pt"><span style="color: black"><span style="font-family: calibri\, sans-serif">Conoce a otros due&ntilde\;os de negocios hispanos en el &aacute\;rea.&nbsp\;</span></span></span><br />\n	<span style="font-size: 10.5pt"><span style="color: black"><span style="font-family: calibri\, sans-serif">Ven a promover tus productos / servicios con otros socios</span></span></span><br />\n	<span style="font-size: 10.5pt"><span style="color: black"><span style="font-family: calibri\, sans-serif">Tambien podras conocer&nbsp\;&nbsp\;nuevos clientes.<br />\n	<br />\n	<br />\n	<br />\n	<span style="font-size: 10.5pt"><span style="color: black"><span style="font-family: calibri\, sans-serif">Sponsored by&nbsp\;</span></span></span><br />\n	<span style="font-size: 10.5pt"><span style="color: black"><span style="font-family: calibri\, sans-serif">La Ley 101.1 &amp\; Clarion Hotel Greensboro&nbsp\;</span></span></span></span></span></span></span></span></span></span><br />\n	<br />\n	&nbsp\;</div>\n
LOCATION:Clarion Greensboro Airport Hotel 415 Swing Road Greensboro\, NC 27409
UID:e.1552.69
SEQUENCE:3
DTSTAMP:20260425T190524Z
URL:https://mobile.nchispanicchamber.org/events/details/business-after-hours-greensboro-08-22-2013-69
END:VEVENT

END:VCALENDAR
