BEGIN:VCALENDAR
VERSION:2.0
PRODID:-//ChamberMaster//Event Calendar 2.0//EN
METHOD:PUBLISH
X-PUBLISHED-TTL:P3D
REFRESH-INTERVAL:P3D
CALSCALE:GREGORIAN
BEGIN:VEVENT
DTSTART:20141204T230000Z
DTEND:20141205T010000Z
X-MICROSOFT-CDO-ALLDAYEVENT:FALSE
SUMMARY:Business After Hours Holidays Special
DESCRIPTION:We invite you to celebrate the holidays with us at our Business After Hours Holidays Special on December 4th\, 2014 . This event will be one of the kind and it is for Members Only. We will have a BIG holiday raffle \,  gift bags for all the members\, food and free beer.\n\n\n\nIf you would like your company to be part of our gift bags\, the raffle's prizes or to be a sponsor of this event\, please notify us no later than November 21st. This will be a great opportunity to promote your business.  \n\n \n\nRegistration ends November 28th .
X-ALT-DESC;FMTTYPE=text/html:<span style="font-size: medium\;"><span style="font-family: calibri\;">We&nbsp\;invite you to celebrate the holidays with us&nbsp\;at our <strong><em>Business After Hours Holidays Special</em></strong> on December 4<sup><span style="font-size: small\;">th</span></sup>\, 2014 . This event will be one of the kind and it is for Members Only.&nbsp\;We will have a&nbsp\;BIG&nbsp\;holiday raffle&nbsp\;\,&nbsp\; gift bags for all the members\, food&nbsp\;and free beer.<br />\n<br />\nIf you would like your company to be part of our gift bags\, the raffle&#39\;s prizes&nbsp\;or&nbsp\;to be a sponsor of this event\, please notify us no later than November 21<sup><span style="font-size: small\;">st</span></sup>. This will be a great opportunity to promote your business. &nbsp\;</span></span><br />\n&nbsp\;<br />\n<strong><span style="font-size: medium\;"><span style="font-family: calibri\;">Registration ends November 28<sup><span style="font-size: small\;">th</span></sup><sup><span style="font-size: small\;"> </span></sup>. </span></span></strong><br />\n&nbsp\;
LOCATION:North Carolina Hispanic Chamber of Commerce 5800 Faringdon Place Raleigh\, NC 27609
UID:e.1552.137
SEQUENCE:3
DTSTAMP:20260424T125035Z
URL:https://mobile.nchispanicchamber.org/events/details/business-after-hours-holidays-special-12-04-2014-137
END:VEVENT

END:VCALENDAR
