BEGIN:VCALENDAR
VERSION:2.0
PRODID:-//ChamberMaster//Event Calendar 2.0//EN
METHOD:PUBLISH
X-PUBLISHED-TTL:P3D
REFRESH-INTERVAL:P3D
CALSCALE:GREGORIAN
BEGIN:VEVENT
DTSTART:20151210T230000Z
DTEND:20151211T010000Z
X-MICROSOFT-CDO-ALLDAYEVENT:FALSE
SUMMARY:Business After Hours Holidays Special
DESCRIPTION:-Business After Hours Holiday Special-\n\n \nWe invite you to celebrate the holidays with us at our Business After Hours Holidays Special on Thursday\, December 10th\, 2015 . This event will be one of the kind and it is for Members Only. We will have a holiday raffles and food.\n\n\n\nIf you would like your company to be part of our gift bags\, the raffle's prizes or to be a sponsor of this event\, please notify us no later than November 20. This will be a great opportunity to promote your business.  \n\n \n\nRegistration ends November 27 .
X-ALT-DESC;FMTTYPE=text/html:<div style="text-align: center\;"><span style="font-size: medium\;"><span style="font-family: calibri\;"><em><strong>-Business After Hours Holiday Special-</strong></em></span></span><br />\n&nbsp\;</div>\n<span style="font-size: medium\;"><span style="font-family: calibri\;">We&nbsp\;invite you to celebrate the holidays with us&nbsp\;at our <strong><em>Business After Hours Holidays Special</em></strong> on Thursday\, December 10<sup><span style="font-size: small\;">th</span></sup>\, 2015 . This event will be one of the kind and it is for Members Only.&nbsp\;We will have a&nbsp\;holiday raffles and food.<br />\n<br />\nIf you would like your company to be part of our gift bags\, the raffle&#39\;s prizes&nbsp\;or&nbsp\;to be a sponsor of this event\, please notify us no later than November 20. This will be a great opportunity to promote your business. &nbsp\;</span></span><br />\n&nbsp\;<br />\n<strong><span style="font-size: medium\;"><span style="font-family: calibri\;">Registration ends November 27<sup><span style="font-size: small\;"> </span></sup>. </span></span></strong><br />\n&nbsp\;
LOCATION:North Carolina Hispanic Chamber of Commerce 5800 Faringdon Place Raleigh\, NC 27609
UID:e.1552.163
SEQUENCE:3
DTSTAMP:20260421T153328Z
URL:https://mobile.nchispanicchamber.org/events/details/business-after-hours-holidays-special-12-10-2015-163
END:VEVENT

END:VCALENDAR
