BEGIN:VCALENDAR
VERSION:2.0
PRODID:-//ChamberMaster//Event Calendar 2.0//EN
METHOD:PUBLISH
X-PUBLISHED-TTL:P3D
REFRESH-INTERVAL:P3D
CALSCALE:GREGORIAN
BEGIN:VEVENT
DTSTART:20150122T230000Z
DTEND:20150123T010000Z
X-MICROSOFT-CDO-ALLDAYEVENT:FALSE
SUMMARY:Business After Hours | January 2015
DESCRIPTION:Looking to get more connected and expand your network in 2015?\n\n \n\nStart the New Year off right by networking with Latino professionals and business owners! Whether you have attended one of our events in the past or are interested in learning more about become a new member this year\, plan to join us for Business After Hours networking event!\n\n\n\nThursday\, January 22\, 2015\n\n6:00 pm to 8:00 pm\n\n\n\n4000 Wake Forest Rd.\n\nRaleigh\, NC 27609\n\n\n\nHosting by:  USA GATEWAY TRAVEL
X-ALT-DESC;FMTTYPE=text/html:<div style="text-align: center\;"><span style="font-size: 18px\;"><strong><span style="font-family: lucida bright\;">Looking to get more connected and expand your network in 2015?</span></strong></span><br />\n&nbsp\;<br />\n<span style="font-family: lucida bright\;">Start the New Year off right by networking with Latino professionals and business owners! Whether you have attended one of our events in the past or are interested in learning more about become a new member this year\, plan to join us for Business After Hours networking event!<br />\n<br />\nThursday\, January 22\, 2015<br />\n6:00 pm to 8:00 pm<br />\n<br />\n4000 Wake Forest Rd.<br />\nRaleigh\, NC 27609<br />\n<br />\nHosting by:&nbsp\; USA&nbsp\;GATEWAY TRAVEL</span></div>\n
LOCATION:4000 Wake Forest Rd. Raleigh\, NC 27609
UID:e.1552.141
SEQUENCE:3
DTSTAMP:20260424T111221Z
URL:https://mobile.nchispanicchamber.org/events/details/business-after-hours-january-2015-01-22-2015-141
END:VEVENT

END:VCALENDAR
