BEGIN:VCALENDAR
VERSION:2.0
PRODID:-//ChamberMaster//Event Calendar 2.0//EN
METHOD:PUBLISH
X-PUBLISHED-TTL:P3D
REFRESH-INTERVAL:P3D
CALSCALE:GREGORIAN
BEGIN:VEVENT
DTSTART:20160128T230000Z
DTEND:20160129T010000Z
X-MICROSOFT-CDO-ALLDAYEVENT:FALSE
SUMMARY:Business After Hours - Noche de Negocios
DESCRIPTION:First Business After Hours and Grand Opening\n\nThis is a great opportunity to showcase your business to other community business owners. It is an opportunity to network\, market and have some fun!\n\n \n\nThursday\, January\, 28th\n\n6:00   8:00 p.m.\n\n \n\nPolanco Law\n\n2840 Plaza Place\, Suite 260\n\nRaleigh\, NC 27612\n\n \n\n\n\nEsta es una magn fica oportunidad para presentar su negocio a otros due os de negocios en la comunidad\, establecer nuevos contactos y divertirse un poco.\n\n \n\nJueves\, 28 de enero\n\n6:00   8:00 p.m.\n\n \n\nPolanco Law\n\n2840 Plaza Place\, Suite 260\n\nRaleigh\, NC 27612
X-ALT-DESC;FMTTYPE=text/html:<div style="text-align: center\;"><span style="text-align: center\; color: rgb(51\, 51\, 51)\; line-height: 16.64px\; font-family: sans-serif\, Arial\, Verdana\,\;" trebuchet="">&nbsp\;</span><br />\n<strong>First Business After Hours and Grand Opening</strong><br />\nThis is a great opportunity to showcase your business to other community business owners. It is an opportunity to network\, market and have some fun!<br />\n&nbsp\;<br />\nThursday\, January\, 28th<br />\n6:00 &ndash\; 8:00 p.m.<br />\n&nbsp\;<br />\nPolanco Law<br />\n2840 Plaza Place\, Suite 260<br />\nRaleigh\, NC 27612<br />\n&nbsp\;<br />\n<br />\nEsta es una magn&iacute\;fica oportunidad para presentar su negocio a otros due&ntilde\;os de negocios en la comunidad\, establecer nuevos contactos y divertirse un poco.<br />\n&nbsp\;<br />\nJueves\, 28 de enero<br />\n6:00 &ndash\; 8:00 p.m.<br />\n&nbsp\;<br />\nPolanco Law<br />\n2840 Plaza Place\, Suite 260<br />\nRaleigh\, NC 27612</div>\n
LOCATION:Polanco Law 2840 Plaza Place\, Suite 260 Raleigh\, NC 27612
UID:e.1552.202
SEQUENCE:3
DTSTAMP:20260421T134019Z
URL:https://mobile.nchispanicchamber.org/events/details/business-after-hours-noche-de-negocios-01-28-2016-202
END:VEVENT

END:VCALENDAR
