BEGIN:VCALENDAR
VERSION:2.0
PRODID:-//ChamberMaster//Event Calendar 2.0//EN
METHOD:PUBLISH
X-PUBLISHED-TTL:P3D
REFRESH-INTERVAL:P3D
CALSCALE:GREGORIAN
BEGIN:VEVENT
DTSTART:20150610T213000Z
DTEND:20150610T233000Z
X-MICROSOFT-CDO-ALLDAYEVENT:FALSE
SUMMARY:Career Services Class
DESCRIPTION:The class will provide the following:\n\n	A hands-on approach to pro-actively correct\, modify\, and give feedback on resumes.\n	Interview skills such as how to dress appropriately\, how to tackle tough questions\, and interview do's and don'ts.\n	A complete lesson on the importance of linked in as well as how to construct your profile and gain contacts.\n	The last portion of the class will be advocated to answer any questions and follow ups that you might have regarding these topics.\n\n\n\nThe price to attend the class is going to be $10 and you can pay upon arrival or with a credit card through the chamber website: http://nchispanicchamber.org. Spots are limited so be sure to sign up ASAP.\n\n \nThe class will take place on:\n\n \n\nWednesday\, June 10th\n\n5800 Faringdon Pl\, Raleigh\, NC 27609\,\n\n5:30 pm   7:30 pm
X-ALT-DESC;FMTTYPE=text/html:The class will provide the following:\n<ul>\n	<li>A hands-on approach to pro-actively correct\, modify\, and give feedback on resumes.</li>\n	<li>Interview skills such as how to dress appropriately\, how to tackle tough questions\, and interview do&rsquo\;s and don&rsquo\;ts.</li>\n	<li>A complete lesson on the importance of linked in as well as how to construct your profile and gain contacts.</li>\n	<li>The last portion of the class will be advocated to answer any questions and follow ups that you might have regarding these topics.</li>\n</ul>\n<br />\nThe price to attend the class is going to be $10 and you can pay upon arrival or with a credit card through the chamber website: http://nchispanicchamber.org. Spots are limited so be sure to sign up ASAP.<br />\n&nbsp\;\n<div style="text-align: center\;">The class will take place on:<br />\n&nbsp\;<br />\nWednesday\, June 10th<br />\n5800 Faringdon Pl\, Raleigh\, NC 27609\,<br />\n5:30 pm &ndash\; 7:30 pm</div>\n<br />\n&nbsp\;
LOCATION:NC Hispanic Chamber of Commerce 5800 Faringdon Place Raleigh\, NC 27609
UID:e.1552.180
SEQUENCE:3
DTSTAMP:20260422T025910Z
URL:https://mobile.nchispanicchamber.org/events/details/career-services-class-06-10-2015-180
END:VEVENT

END:VCALENDAR
