BEGIN:VCALENDAR
VERSION:2.0
PRODID:-//ChamberMaster//Event Calendar 2.0//EN
METHOD:PUBLISH
X-PUBLISHED-TTL:P3D
REFRESH-INTERVAL:P3D
CALSCALE:GREGORIAN
BEGIN:VEVENT
DTSTART:20150806T220000Z
DTEND:20150807T000000Z
X-MICROSOFT-CDO-ALLDAYEVENT:FALSE
SUMMARY:Chinelo's Mexican Cafe - Grand Opening
DESCRIPTION:
X-ALT-DESC;FMTTYPE=text/html:
LOCATION:5176 NC HWY 42 West Ste. K Garner\, NC 27529
UID:e.1552.187
SEQUENCE:3
DTSTAMP:20260421T223458Z
URL:https://mobile.nchispanicchamber.org/events/details/chinelo-s-mexican-cafe-grand-opening-08-06-2015-187
END:VEVENT

END:VCALENDAR
