BEGIN:VCALENDAR
VERSION:2.0
PRODID:-//ChamberMaster//Event Calendar 2.0//EN
METHOD:PUBLISH
X-PUBLISHED-TTL:P3D
REFRESH-INTERVAL:P3D
CALSCALE:GREGORIAN
BEGIN:VEVENT
DTSTART:20150722T220000Z
DTEND:20150722T233000Z
X-MICROSOFT-CDO-ALLDAYEVENT:FALSE
SUMMARY:Clase de Ciudadanía
DESCRIPTION:Aprenda lo que se necesita hacer para aprender c mo obtener la ciudadan a de los Estados Unidos
X-ALT-DESC;FMTTYPE=text/html:Aprenda lo que se necesita hacer para aprender c&oacute\;mo obtener la ciudadan&iacute\;a de los Estados Unidos
LOCATION:5800 Faringdon Place Raleigh\, NC 27609
UID:e.1552.186
SEQUENCE:3
DTSTAMP:20260422T003057Z
URL:https://mobile.nchispanicchamber.org/events/details/clase-de-ciudadan&#237;a-07-22-2015-186
END:VEVENT

END:VCALENDAR
