BEGIN:VCALENDAR
VERSION:2.0
PRODID:-//ChamberMaster//Event Calendar 2.0//EN
METHOD:PUBLISH
X-PUBLISHED-TTL:P3D
REFRESH-INTERVAL:P3D
CALSCALE:GREGORIAN
BEGIN:VEVENT
DTSTART:20140805T123000Z
DTEND:20140806T203000Z
X-MICROSOFT-CDO-ALLDAYEVENT:FALSE
SUMMARY:Community Interpreter (HHS) - Level I Training
DESCRIPTION:These seminars are for bilingual people who are called upon to interpret in health and human services settings such as: health departments\, mental health clinics\, social services programs and services\, etc. Besides learning effective interpreting skills\, participants also learn about Latino culture and how cultural differences can affect the immigrant's understanding of the American system. Co-developed by your instructor\, Yasmin Wurts Metivier of Panoltia\, and Eta Trabing of the Berkana Language Center\, this workshop is based on more than 20 years of professional interpreter experience.\n\n \n\nTopics include\n\n  The Role of the Interpreter\n\n  Basic Interpretation Skills and Techniques\n\n  How to handle difficult interpreting situations\n\n  Interpreter's Code of Ethics\n\n  The new immigrant's belief system and cultural differences \n\n  How to incorporate cultural differences to improve communication\n\n  Role plays taken from real life situations using terminology applicable to: Adults and children's health assessments\, mental health evaluations\, social services programs\, DV reports\, and more.\n\n \n\nParticipant Prerequisites:\n\n  Level I  Must be bilingual (English/Spanish)\n\n \n\nFees: Level I   $199 per person (includes a copy of "Manual For Community Interpreters" published by Berkana Language Center and Panoltia\, Inc.\, a $50 retail value).\n\n \n\nFor more information and to register visit www.panoltiatraining.com\, or call Panoltia at (919) 467-3590.
X-ALT-DESC;FMTTYPE=text/html:<span style="font-size: medium\;"><span style="font-family: calibri\;">These seminars are for bilingual people who are called upon to interpret in health and human services settings such as: health departments\, mental health clinics\, social services programs and services\, etc. Besides learning effective interpreting skills\, participants also learn about Latino culture and how cultural differences can affect the immigrant&rsquo\;s understanding of the American system. Co-developed by your instructor\, Yasmin Wurts Metivier of Panoltia\, and Eta Trabing of the Berkana Language Center\, this workshop is based on more than 20 years of professional interpreter experience.</span></span><br />\n&nbsp\;<br />\n<span style="font-size: medium\;"><span style="font-family: calibri\;">Topics include</span></span><br />\n<span style="font-size: medium\;"><span style="font-family: calibri\;">&bull\; The Role of the Interpreter</span></span><br />\n<span style="font-size: medium\;"><span style="font-family: calibri\;">&bull\; Basic Interpretation Skills and Techniques</span></span><br />\n<span style="font-size: medium\;"><span style="font-family: calibri\;">&bull\; How to handle difficult interpreting situations</span></span><br />\n<span style="font-size: medium\;"><span style="font-family: calibri\;">&bull\; Interpreter&rsquo\;s Code of Ethics</span></span><br />\n<span style="font-size: medium\;"><span style="font-family: calibri\;">&bull\; The new immigrant&rsquo\;s belief system and cultural differences </span></span><br />\n<span style="font-size: medium\;"><span style="font-family: calibri\;">&bull\; How to incorporate cultural differences to improve communication</span></span><br />\n<span style="font-size: medium\;"><span style="font-family: calibri\;">&bull\; Role plays taken from real life situations using terminology applicable to: Adults and children&rsquo\;s health assessments\, mental health evaluations\, social services programs\, DV reports\, and more.</span></span><br />\n&nbsp\;<br />\n<span style="font-size: medium\;"><span style="font-family: calibri\;">Participant Prerequisites:</span></span><br />\n<span style="font-size: medium\;"><span style="font-family: calibri\;">&bull\; Level I&ndash\; Must be bilingual (English/Spanish)</span></span><br />\n&nbsp\;<br />\n<span style="font-size: medium\;"><span style="font-family: calibri\;">Fees: Level I &ndash\; $199 per person (includes a copy of &ldquo\;Manual For Community Interpreters&rdquo\; published by Berkana Language Center and Panoltia\, Inc.\, a $50 retail value).</span></span><br />\n&nbsp\;<br />\n<span style="font-size: medium\;"><span style="font-family: calibri\;">For more information and to register visit www.panoltiatraining.com\, or call Panoltia at (919) 467-3590.</span></span><br />\n&nbsp\;<br />\n<br />\n&nbsp\;
LOCATION:NCHCC 5800 Faringdon Place Raleigh\, NC 27609
UID:e.1552.115
SEQUENCE:3
DTSTAMP:20260424T211029Z
URL:https://mobile.nchispanicchamber.org/events/details/community-interpreter-hhs-level-i-training-08-05-2014-115
END:VEVENT

END:VCALENDAR
