BEGIN:VCALENDAR
VERSION:2.0
PRODID:-//ChamberMaster//Event Calendar 2.0//EN
METHOD:PUBLISH
X-PUBLISHED-TTL:P3D
REFRESH-INTERVAL:P3D
CALSCALE:GREGORIAN
BEGIN:VEVENT
DTSTART:20140906T120000Z
DTEND:20140907T210000Z
X-MICROSOFT-CDO-ALLDAYEVENT:FALSE
SUMMARY:CONSULADO MOVIL GUATEMALA
DESCRIPTION:El Consulado General de Guatemala en Atlanta y los\n\nC nsules Honorarios en Carolina del Norte realizar n el \n\nCONSULADO MOVIL\n\nen RALEIGH\, CAROLINA DEL NORTE\n\nlos d as s bado 6 y domingo 7 de septiembre de 2014\n\nde 8am a 5pm ambos d as\, en las instalaciones de\n\nNORTH CAROLINA HISPANIC CHAMBER OF COMMERCE\n\n5800 Faringdon Place\, Raleigh\, NC 27609
X-ALT-DESC;FMTTYPE=text/html:<div style="text-align: center\;"><span style="font-size: 18px\;"><strong><span style="font-family: calibri\;">El Consulado General de Guatemala en Atlanta y los</span></strong><br />\n<strong><span style="font-family: calibri\;">C&oacute\;nsules Honorarios en Carolina del Norte realizar&aacute\;n el </span></strong><br />\n<strong><span style="font-family: calibri\;">CONSULADO MOVIL</span></strong><br />\n<span style="font-family: calibri\;"><strong>en RALEIGH\, CAROLINA DEL NORTE</strong></span><br />\n<strong>los d&iacute\;as s&aacute\;bado 6</strong> <strong>y domingo 7 de septiembre de 2014</strong><br />\n<strong><span style="font-family: calibri\;">de 8am a 5pm ambos d&iacute\;as\, en las instalaciones de</span></strong><br />\n<strong><span style="font-family: cambria\,serif\;">NORTH CAROLINA HISPANIC CHAMBER OF COMMERCE</span></strong><br />\n<strong><span style="font-family: cambria\,serif\;">5800 Faringdon Place\, Raleigh\, NC 27609</span></strong></span></div>\n
LOCATION:5800 Faringdon Place Raleigh\, NC 27609
UID:e.1552.119
SEQUENCE:3
DTSTAMP:20260424T190923Z
URL:https://mobile.nchispanicchamber.org/events/details/consulado-movil-guatemala-09-06-2014-119
END:VEVENT

END:VCALENDAR
