BEGIN:VCALENDAR
VERSION:2.0
PRODID:-//ChamberMaster//Event Calendar 2.0//EN
METHOD:PUBLISH
X-PUBLISHED-TTL:P3D
REFRESH-INTERVAL:P3D
CALSCALE:GREGORIAN
BEGIN:VEVENT
DTSTART:20150430T033000Z
DTEND:20150429T180000Z
X-MICROSOFT-CDO-ALLDAYEVENT:FALSE
SUMMARY:Diversity Luncheon
DESCRIPTION:Wednesday\, April 29th.\n\n11:30a.m.to 2:00 p.m.
X-ALT-DESC;FMTTYPE=text/html:Wednesday\, April 29th.<br />\n<span style="color: black\; font-family:\;" trebuchet="">11:30a.m.to 2:00 p.m.</span>
LOCATION:Brier Creek Country Club 9400 Club Hill Drive Raleigh\, NC 27617
UID:e.1552.151
SEQUENCE:3
DTSTAMP:20260422T060811Z
URL:https://mobile.nchispanicchamber.org/events/details/diversity-luncheon-04-29-2015-151
END:VEVENT

END:VCALENDAR
