BEGIN:VCALENDAR
VERSION:2.0
PRODID:-//ChamberMaster//Event Calendar 2.0//EN
METHOD:PUBLISH
X-PUBLISHED-TTL:P3D
REFRESH-INTERVAL:P3D
CALSCALE:GREGORIAN
BEGIN:VEVENT
DTSTART:20180420T150000Z
DTEND:20180420T180000Z
X-MICROSOFT-CDO-ALLDAYEVENT:FALSE
SUMMARY:Diversity Luncheon 2018
DESCRIPTION:SOLD OUT!\n\n\n\nNC Hispanic Chamber of Commerce is celebrating\n\n\n\nDiversity Lunchon\n\nRalph De la Vega\n\n\n\n"Obstacles Welcome: Turn Adversity to Advantage in Business and Life."
X-ALT-DESC;FMTTYPE=text/html:<div style="text-align: center\;"><strong><span style="color:#FF0000\;"><span style="font-family: helvetica\,sans-serif\;"><span style="font-size: 10.5pt\;"><span style="font-family:verdana\;"><span style="font-size:72px\;">SOLD OUT!</span></span></span></span></span><br />\n<br />\n<span><span style="color: rgb(29\, 33\, 41)\;"><span style="font-family: helvetica\,sans-serif\;"><span style="font-size: 10.5pt\;">NC&nbsp\;Hispanic Chamber of Commerce is celebrating</span></span></span></span></strong><br />\n<br />\n<strong><span><span style="color: rgb(29\, 33\, 41)\;"><span style="font-family: helvetica\,sans-serif\;"><span style="font-size: 10.5pt\;">Diversity Lunchon</span></span></span></span></strong><br />\n<strong><span><span style="color: rgb(29\, 33\, 41)\;"><span style="font-family: helvetica\,sans-serif\;"><span style="font-size: 10.5pt\;">Ralph De la Vega</span></span></span></span></strong><br />\n<br />\n<strong>&ldquo\;Obstacles Welcome: Turn Adversity to Advantage in Business and Life.&rdquo\;</strong></div>\n
LOCATION:Brier Creek Country Club 9400 Club Hill Dr\, Raleigh\, NC 27617
UID:e.1552.881
SEQUENCE:3
DTSTAMP:20260419T130002Z
URL:https://mobile.nchispanicchamber.org/events/details/diversity-luncheon-2018-881
END:VEVENT

END:VCALENDAR
