BEGIN:VCALENDAR
VERSION:2.0
PRODID:-//ChamberMaster//Event Calendar 2.0//EN
METHOD:PUBLISH
X-PUBLISHED-TTL:P3D
REFRESH-INTERVAL:P3D
CALSCALE:GREGORIAN
BEGIN:VEVENT
DTSTART:20140812T123000Z
DTEND:20140812T143000Z
X-MICROSOFT-CDO-ALLDAYEVENT:FALSE
SUMMARY:EDUCATIONAL BREAKFAST | AUGUST 2014
DESCRIPTION:EL ABC DEL MARKETING DIGITAL PARA TU EMPRESA\n\n\n\nEl taller ser  dictado por HR2M y estar  enfocado a dar una luz alos negocios locales que necesiten diferentes estrategias de reconocimiento en Internet\, sin tener un capital muy alto de inversi n.
X-ALT-DESC;FMTTYPE=text/html:<div style="text-align: center\;"><br />\n<br />\n<span style="font-size: 18px\;"><em><strong>EL ABC DEL MARKETING DIGITAL PARA TU EMPRESA</strong></em></span></div>\n\n<div style="text-align: center\;"><br />\n<span style="font-size: 18px\;"><span lang="ES-TRAD" new="" style="font-family:\;" times=""><font color="#000000">El taller ser&aacute\; dictado por HR2M y estar&aacute\; enfocado a dar una luz alos negocios locales que necesiten diferentes estrategias de reconocimiento en Internet\, sin tener un capital muy alto de inversi&oacute\;n.</font></span></span><br />\n<br />\n<br />\n&nbsp\;</div>\n
LOCATION:NCHCC 5800 Farigndon Place Raleigh\, NC 27609
UID:e.1552.108
SEQUENCE:3
DTSTAMP:20260424T210233Z
URL:https://mobile.nchispanicchamber.org/events/details/educational-breakfast-august-2014-08-12-2014-108
END:VEVENT

END:VCALENDAR
