BEGIN:VCALENDAR
VERSION:2.0
PRODID:-//ChamberMaster//Event Calendar 2.0//EN
METHOD:PUBLISH
X-PUBLISHED-TTL:P3D
REFRESH-INTERVAL:P3D
CALSCALE:GREGORIAN
BEGIN:VEVENT
DTSTART:20140909T123000Z
DTEND:20140909T143000Z
X-MICROSOFT-CDO-ALLDAYEVENT:FALSE
SUMMARY:EDUCATIONAL BREAKFAST | DEFERRED ACTION
DESCRIPTION:Hosted by the NC Hispanic Chamber of Commerce\n\nJoin us for our  Deferred Action seminar at the North Carolina Hispanic Chamber of Commerce. We will talk about Deferred Action and answer questions you may have. If you would like to attend\, please call (919)782-8764 Space is limited.\n\n\n\nLa C mara de Comercio de Carolina del Norte lo invita a nuestra charla informativa sobre la Acci n Diferida\,  Venga y ent rese\, le resolveremos sus inquietudes.\n\nSi desea inscribirse favor llamar al telefono (919) 782-8764 el cupo es limitado.
X-ALT-DESC;FMTTYPE=text/html:&nbsp\;\n<div style="text-align: center\;"><span style="font-size: 16px\;">Hosted by the NC&nbsp\;Hispanic Chamber of Commerce<br />\nJoin us for our &nbsp\;Deferred Action seminar at the North Carolina Hispanic Chamber of Commerce. We will talk about Deferred Action and answer questions you may have. If you would like to attend\, please call (919)782-8764 Space is limited.<br />\n<br />\n<em>La C&aacute\;mara de Comercio de Carolina del Norte lo invita a nuestra charla informativa sobre la Acci&oacute\;n Diferida\,&nbsp\; Venga y ent&eacute\;rese\, le resolveremos sus inquietudes.<br />\nSi desea inscribirse favor llamar al telefono (919) 782-8764 el cupo es limitado</em></span>.</div>\n
LOCATION:5800 Faringdon Place Raleigh NC 27609
UID:e.1552.109
SEQUENCE:3
DTSTAMP:20260424T191551Z
URL:https://mobile.nchispanicchamber.org/events/details/educational-breakfast-deferred-action-09-09-2014-109
END:VEVENT

END:VCALENDAR
