BEGIN:VCALENDAR
VERSION:2.0
PRODID:-//ChamberMaster//Event Calendar 2.0//EN
METHOD:PUBLISH
X-PUBLISHED-TTL:P3D
REFRESH-INTERVAL:P3D
CALSCALE:GREGORIAN
BEGIN:VEVENT
DTSTART:20141113T133000Z
DTEND:20141113T153000Z
X-MICROSOFT-CDO-ALLDAYEVENT:FALSE
SUMMARY:EDUCATIONAL BREAKFAST | NOVEMBER 2014
DESCRIPTION:Affordable Care Act / Ley del Cuidado de la Salud\n\n\n\n\n\nDon't you want to know how the Care Reform will affect your business? \n\nCome and find out how the Affordable Care \n\nReform  could  affect your business and how to avoid the penalties due to the new regulations.\n\n\n\n\n\n Quiere saber como la nueva Ley del Cuidado de la Salud afectara su negocio? \n\nVenga e inf rmese en c mo la Ley del Cuidado de la Salud podr a afectar su negocio y c mo evitar multas debido a las nuevas regulaciones.
X-ALT-DESC;FMTTYPE=text/html:<div style="color: gray\;"><span style="font-size: 18px\;"><span style="color: rgb(0\, 0\, 0)\;">Affordable Care Act / Ley del Cuidado de la&nbsp\;Salud</span></span><br />\n<br />\n<br />\n<span style="font-size: 14px\;"><span style="font-family: times new roman\;"><span style="font-weight: bold\; language: en-US\;"><span style="color: black\;">Don&#39\;t you want to know how&nbsp\;the Care&nbsp\;Reform will affect your business? </span></span><br />\n<span style="color: rgb(0\, 0\, 0)\;"><span style="language: en-US\;">Come and&nbsp\;find&nbsp\;out&nbsp\;how the Affordable Care </span><br />\n<span style="language: en-US\;">Reform&nbsp\; could &nbsp\;affect your business and how to avoid the penalties&nbsp\;due to&nbsp\;the new regulations.</span></span><br />\n<br />\n<br />\n<span style="font-weight: bold\; language: en-US\;"><span style="color: black\;">&iquest\;</span></span><span style="font-weight: bold\; language: en-US\;"><span style="color: black\;">Quiere saber como la nueva Ley del Cuidado de la Salud afectara su negocio? </span></span><br />\n<span style="language: es-CO\;"><span style="color: black\;">Venga e inf&oacute\;rmese en c&oacute\;mo la Ley del Cuidado de la Salud podr&iacute\;a afectar su negocio y c&oacute\;mo evitar multas debido a las nuevas regulaciones.</span></span><br />\n&nbsp\;</span></span><br />\n<br />\n<br />\n<br />\n&nbsp\;</div>\n
LOCATION:NC Hispanic Chamber of Commerce 5800 Faringdon Place Raleigh\, NC 27609
UID:e.1552.111
SEQUENCE:3
DTSTAMP:20260424T145110Z
URL:https://mobile.nchispanicchamber.org/events/details/educational-breakfast-november-2014-11-13-2014-111
END:VEVENT

END:VCALENDAR
