BEGIN:VCALENDAR
VERSION:2.0
PRODID:-//ChamberMaster//Event Calendar 2.0//EN
METHOD:PUBLISH
X-PUBLISHED-TTL:P3D
REFRESH-INTERVAL:P3D
CALSCALE:GREGORIAN
BEGIN:VEVENT
DTSTART:20150512T123000Z
DTEND:20150512T143000Z
X-MICROSOFT-CDO-ALLDAYEVENT:FALSE
SUMMARY:Educational Morning
DESCRIPTION:-Educational Morning-
X-ALT-DESC;FMTTYPE=text/html:<div style="text-align: center\;"><br />\n<span style="font-size: 14px\;"><strong>-Educational Morning</strong></span>-</div>\n
LOCATION:NCHCC 5800 Faringdon Place Raleigh\, NC 27609
UID:e.1552.149
SEQUENCE:3
DTSTAMP:20260422T041253Z
URL:https://mobile.nchispanicchamber.org/events/details/educational-morning-05-12-2015-149
END:VEVENT

END:VCALENDAR
