BEGIN:VCALENDAR
VERSION:2.0
PRODID:-//ChamberMaster//Event Calendar 2.0//EN
METHOD:PUBLISH
X-PUBLISHED-TTL:P3D
REFRESH-INTERVAL:P3D
CALSCALE:GREGORIAN
BEGIN:VEVENT
DTSTART:20150908T123000Z
DTEND:20150908T143000Z
X-MICROSOFT-CDO-ALLDAYEVENT:FALSE
SUMMARY:Educational Morning | New Member Orientation
DESCRIPTION:New Member Orientation\n\nMake your Chamber Membership Work for You!\n\n\n\nWe encourage our new Chamber members to attend one of our quarterly New Member Orientation meetings.  This is your opportunity to meet the Chamber staff\, introduce your business\, and familiarize yourself with the variety of benefits we offer and get connected!\n\n\n\nAt each orientation\, Chamber staff gives an informal presentation covering all you need to know to start making your Chamber membership work for you.  Topics covered include:\n\n \n\nNetworking Events \n\nSpecial Events \n\nMarketing Services \n\nDirect Savings \n\nPrograms \n\nCommunications \n\n\n\nThe New Member Orientation is a great way to start you Chamber connection.  For more information contact info@nchispanicchamber.org\n\n\n\n8:30am to 10:00am.\n\nNCHCC 5800 Faringdon Place\n\nRaleigh\, NC 27609
X-ALT-DESC;FMTTYPE=text/html:<div style="text-align: center\;">&nbsp\;\n<div style="text-align: center\;"><strong><span style="font-size: 18pt\;"><span style="font-family: calibri\,sans-serif\;">New Member Orientation</span></span></strong><br />\n<span style="font-size: 11pt\;"><span style="font-family: calibri\,sans-serif\;">Make your Chamber Membership Work for You!<br />\n<br />\nWe encourage our new Chamber members to attend one of our quarterly New Member Orientation meetings.&nbsp\; This is your opportunity to meet the Chamber staff\, introduce your business\, and familiarize yourself with the variety of benefits we offer and get connected!<br />\n<br />\nAt each orientation\, Chamber staff gives an informal presentation covering all you need to know to start making your Chamber membership work for you.&nbsp\; Topics covered include:</span></span><br />\n&nbsp\;</div>\n\n<div style="text-align: center\;"><span style="font-size: 11pt\;"><span style="font-family: calibri\,sans-serif\;">Networking Events </span></span></div>\n\n<div style="text-align: center\;"><span style="font-size: 11pt\;"><span style="font-family: calibri\,sans-serif\;">Special Events </span></span></div>\n\n<div style="text-align: center\;"><span style="font-size: 11pt\;"><span style="font-family: calibri\,sans-serif\;">Marketing Services </span></span></div>\n\n<div style="text-align: center\;"><span style="font-size: 11pt\;"><span style="font-family: calibri\,sans-serif\;">Direct Savings </span></span></div>\n\n<div style="text-align: center\;"><span style="font-size: 11pt\;"><span style="font-family: calibri\,sans-serif\;">Programs </span></span></div>\n\n<div style="text-align: center\;"><span style="font-size: 11pt\;"><span style="font-family: calibri\,sans-serif\;">Communications </span></span></div>\n\n<div style="text-align: center\;"><br />\n<span style="font-size: 11pt\;"><span style="font-family: calibri\,sans-serif\;">The New Member Orientation is a great way to start you Chamber connection.&nbsp\; For more information contact <a href="mailto:info@nchispanicchamber.org"><span style="color: rgb(5\, 99\, 193)\;">info@nchispanicchamber.org</span></a><br />\n<br />\n8:30am to 10:00am.<br />\nNCHCC 5800 Faringdon Place<br />\nRaleigh\, NC 27609</span></span></div>\n</div>\n
LOCATION:NCHCC 5800 Faringdon Place Raleigh\, NC 27609
UID:e.1552.158
SEQUENCE:3
DTSTAMP:20260421T205140Z
URL:https://mobile.nchispanicchamber.org/events/details/educational-morning-new-member-orientation-09-08-2015-158
END:VEVENT

END:VCALENDAR
