BEGIN:VCALENDAR
VERSION:2.0
PRODID:-//ChamberMaster//Event Calendar 2.0//EN
METHOD:PUBLISH
X-PUBLISHED-TTL:P3D
REFRESH-INTERVAL:P3D
CALSCALE:GREGORIAN
BEGIN:VEVENT
DTSTART:20150919T130000Z
DTEND:20150919T170000Z
X-MICROSOFT-CDO-ALLDAYEVENT:FALSE
SUMMARY:Emprendedores - Como empezar su propio Negocio
DESCRIPTION:Emprendedores NC: \n\nClases de c mo empezar su propio negocio y donde buscar financiamiento:\n\n \n\n Est  interesado en empezar su propio negocio pero no sabe por d nde comenzar?\n\nLo b sico para empezar su propio negocio!\n \n\nTemas incluyen:\n\nEstructuras de negocios legales\n\nInvestigaci n y requisitos de impuestos\n\nAcceso a fuentes financieras\n\n \n\nFecha: S bado\, 19 de septiembre\n\n9:00 am a 1:00 pm\n\nLugar: 5800 Faringdon Place\n\nRaleigh\, NC  27609\n\n \n\nInformaci n y registraciones:\n\n919-782-8764
X-ALT-DESC;FMTTYPE=text/html:<div style="text-align: center\;">Emprendedores NC:&nbsp\;<br />\nClases de c&oacute\;mo empezar su propio negocio y donde buscar financiamiento:<br />\n&nbsp\;<br />\n&iquest\;Est&aacute\; interesado en empezar su propio negocio pero no sabe por d&oacute\;nde comenzar?<br />\nLo b&aacute\;sico para empezar su propio negocio!</div>\n&nbsp\;<br />\nTemas incluyen:<br />\nEstructuras de negocios legales<br />\nInvestigaci&oacute\;n y requisitos de impuestos<br />\nAcceso a fuentes financieras<br />\n&nbsp\;<br />\nFecha: S&aacute\;bado\, 19&nbsp\;de septiembre<br />\n9:00 am a 1:00 pm<br />\nLugar: 5800 Faringdon Place<br />\nRaleigh\, NC&nbsp\; 27609<br />\n&nbsp\;<br />\nInformaci&oacute\;n y registraciones:<br />\n919-782-8764<br />\n&nbsp\;
LOCATION:Lugar: 5800 Faringdon Place Raleigh\, NC 27609
UID:e.1552.190
SEQUENCE:3
DTSTAMP:20260421T210151Z
URL:https://mobile.nchispanicchamber.org/events/details/emprendedores-como-empezar-su-propio-negocio-09-19-2015-190
END:VEVENT

END:VCALENDAR
