BEGIN:VCALENDAR
VERSION:2.0
PRODID:-//ChamberMaster//Event Calendar 2.0//EN
METHOD:PUBLISH
X-PUBLISHED-TTL:P3D
REFRESH-INTERVAL:P3D
CALSCALE:GREGORIAN
BEGIN:VEVENT
DTSTART:20130511T130000Z
DTEND:20130511T180000Z
X-MICROSOFT-CDO-ALLDAYEVENT:FALSE
SUMMARY:Emprendedores NC - Durham
DESCRIPTION:Emprendedores NC\n\n	\n\n	Haga realidad su sue o de tener negocio propio!\n\n	 \n\n	Clases Gratis    En Espa ol\n\n	  Inscr base ya !   \n\n	(919) 782-8764\n\n	 \n\n	Deber  asistir a los 2 talleres (Mayo 11 y Mayo18) para que aprenda sobre: \n\n	\n\n	 Est  listo para empezaro hacer crecer su negocio?    \n\n	     EstrategiasVentas/Mercadeo y Promoci nen Medios de Comunicaci n.\n\n	Finanzasy responsabilidades fiscales.\n\n	 Procedimientoslegales: obtenci nde licencias comerciales y permisos. \n\n	\n\n	North Carolina Hispanic Chamber of Commerce\n\n	www.nchispanicchamber.org
X-ALT-DESC;FMTTYPE=text/html:<p align="center" class="MsoNormal" style="text-align: center\; line-height: normal\; margin: 0in 0in 0pt">\n	<b><span lang="EN" style="font-family: 'Arial'\, 'sans-serif'\; color: blue\; font-size: 19.5pt\; mso-fareast-font-family: 'Times New Roman'\; mso-ansi-language: EN\; mso-bidi-font-size: 11.0pt"><font face="Arial">Emprendedores NC</font></span></b><br />\n	<br />\n	<i><span lang="EN" style="font-family: 'Trebuchet MS'\, 'sans-serif'\; color: black\; font-size: 15pt\; mso-fareast-font-family: 'Times New Roman'\; mso-ansi-language: EN\; mso-bidi-font-family: Arial\; mso-bidi-font-size: 11.0pt"><font face="Trebuchet MS">Haga realidad su sue&ntilde\;o de tener negocio propio</font></span></i><span lang="EN" style="font-family: 'Trebuchet MS'\, 'sans-serif'\; color: black\; font-size: 15pt\; mso-fareast-font-family: 'Times New Roman'\; mso-ansi-language: EN\; mso-bidi-font-family: Arial">!</span><br />\n	<span lang="EN" style="font-family: 'Trebuchet MS'\, 'sans-serif'\; color: black\; font-size: 11.5pt\; mso-fareast-font-family: 'Times New Roman'\; mso-ansi-language: EN\; mso-bidi-font-family: Arial">&nbsp\;</span><br />\n	<font face="Calibri"><b><span lang="ES" style="color: #ff9900\; font-size: 13.5pt\; text-shadow: auto\; mso-fareast-font-family: 'Times New Roman'\; mso-ansi-language: ES\; mso-bidi-font-family: Arial\; mso-bidi-font-size: 11.0pt\; mso-ascii-font-family: Calibri\; mso-hansi-font-family: Calibri">Clases</span></b><b><span lang="ES" style="color: #ff9900\; font-size: 13.5pt\; text-shadow: auto\; mso-fareast-font-family: 'Times New Roman'\; mso-ansi-language: ES\; mso-bidi-font-family: Arial\; mso-ascii-font-family: Calibri\; mso-hansi-font-family: Calibri"> Gratis &ndash\;&nbsp\; En </span></b><b><span lang="ES" style="color: #ff9900\; font-size: 13.5pt\; text-shadow: auto\; mso-fareast-font-family: 'Times New Roman'\; mso-ansi-language: ES\; mso-bidi-font-family: Arial\; mso-bidi-font-size: 11.0pt\; mso-ascii-font-family: Calibri\; mso-hansi-font-family: Calibri">Espa&ntilde\;ol</span></b></font><br />\n	<font face="Calibri"><b><span lang="ES" style="color: #ff9900\; font-size: 11.5pt\; mso-fareast-font-family: 'Times New Roman'\; mso-ansi-language: ES\; mso-bidi-font-family: Arial\; mso-ascii-font-family: Calibri\; mso-hansi-font-family: Calibri">&iexcl\; </span></b><b><span lang="ES" style="color: #ff9900\; font-size: 11.5pt\; mso-fareast-font-family: 'Times New Roman'\; mso-ansi-language: ES\; mso-bidi-font-family: Arial\; mso-bidi-font-size: 11.0pt\; mso-ascii-font-family: Calibri\; mso-hansi-font-family: Calibri">Inscr&iacute\;base</span></b><b><span lang="ES" style="color: #ff9900\; font-size: 11.5pt\; mso-fareast-font-family: 'Times New Roman'\; mso-ansi-language: ES\; mso-bidi-font-family: Arial\; mso-ascii-font-family: Calibri\; mso-hansi-font-family: Calibri"> </span></b><b><span lang="ES" style="color: #ff9900\; font-size: 11.5pt\; mso-fareast-font-family: 'Times New Roman'\; mso-ansi-language: ES\; mso-bidi-font-family: Arial\; mso-bidi-font-size: 11.0pt\; mso-ascii-font-family: Calibri\; mso-hansi-font-family: Calibri">ya</span></b><b><span lang="ES" style="color: #ff9900\; font-size: 11.5pt\; mso-fareast-font-family: 'Times New Roman'\; mso-ansi-language: ES\; mso-bidi-font-family: Arial\; mso-ascii-font-family: Calibri\; mso-hansi-font-family: Calibri"> !&nbsp\; </span></b></font><span lang="EN" style="font-family: 'Arial'\, 'sans-serif'\; color: gray\; font-size: 9pt\; mso-fareast-font-family: 'Times New Roman'\; mso-ansi-language: EN">&nbsp\;</span><br />\n	<b><span lang="ES" style="color: #ff9900\; font-size: 9pt\; mso-fareast-font-family: 'Times New Roman'\; mso-ansi-language: ES\; mso-bidi-font-family: Arial\; mso-ascii-font-family: Calibri\; mso-hansi-font-family: Calibri"><font face="Calibri">(919) 782-8764<o:p></o:p></font></span></b></p>\n<p align="center" class="MsoNormal" style="text-align: center\; line-height: normal\; margin: 0in 0in 0pt">\n	<b><span lang="ES" style="color: #ff9900\; font-size: 9pt\; mso-fareast-font-family: 'Times New Roman'\; mso-ansi-language: ES\; mso-bidi-font-family: Arial\; mso-ascii-font-family: Calibri\; mso-hansi-font-family: Calibri"><o:p><font face="Calibri">&nbsp\;</font></o:p></span></b></p>\n<p align="center" class="MsoNormal" style="text-align: center\; line-height: normal\; margin: 0in 0in 0pt">\n	<span class="scayt-misspell3"><span lang="EN" style="font-family: 'Arial'\, 'sans-serif'\; color: gray\; font-size: 9pt\; mso-ansi-language: EN">Deber&aacute\;</span></span><span lang="EN" style="font-family: 'Arial'\, 'sans-serif'\; color: gray\; font-size: 9pt\; mso-ansi-language: EN"> <span class="scayt-misspell3">asistir</span> a los 2&nbsp\;<span class="scayt-misspell3">talleres</span> (<span class="scayt-misspell3">Mayo 11 y <span class="scayt-misspell3">Mayo18) <span class="scayt-misspell3">para</span> <span class="scayt-misspell3">que</span> <span class="scayt-misspell3">aprenda</span> <span class="scayt-misspell3">sobre</span>: </span><br />\n	<br />\n	<span style="color: #003399\; font-size: 9pt\; mso-fareast-font-family: 'Times New Roman'\; mso-bidi-font-family: Arial\; mso-ascii-font-family: Calibri\; mso-hansi-font-family: Calibri">&iquest\;</span><span style="color: #003399\; font-size: 9pt\; mso-fareast-font-family: 'Times New Roman'\; mso-bidi-font-family: Arial\; mso-bidi-font-size: 11.0pt\; mso-ascii-font-family: Calibri\; mso-hansi-font-family: Calibri">Est&aacute\;</span><span style="color: #003399\; font-size: 9pt\; mso-fareast-font-family: 'Times New Roman'\; mso-bidi-font-family: Arial\; mso-ascii-font-family: Calibri\; mso-hansi-font-family: Calibri"> </span><span style="color: #003399\; font-size: 9pt\; mso-fareast-font-family: 'Times New Roman'\; mso-bidi-font-family: Arial\; mso-bidi-font-size: 11.0pt\; mso-ascii-font-family: Calibri\; mso-hansi-font-family: Calibri">listo</span><span style="color: #003399\; font-size: 9pt\; mso-fareast-font-family: 'Times New Roman'\; mso-bidi-font-family: Arial\; mso-ascii-font-family: Calibri\; mso-hansi-font-family: Calibri"> </span><span style="color: #003399\; font-size: 9pt\; mso-fareast-font-family: 'Times New Roman'\; mso-bidi-font-family: Arial\; mso-bidi-font-size: 11.0pt\; mso-ascii-font-family: Calibri\; mso-hansi-font-family: Calibri">para</span><span style="color: #003399\; font-size: 9pt\; mso-fareast-font-family: 'Times New Roman'\; mso-bidi-font-family: Arial\; mso-ascii-font-family: Calibri\; mso-hansi-font-family: Calibri"> empezaro </span><span style="color: #003399\; font-size: 9pt\; mso-fareast-font-family: 'Times New Roman'\; mso-bidi-font-family: Arial\; mso-bidi-font-size: 11.0pt\; mso-ascii-font-family: Calibri\; mso-hansi-font-family: Calibri">hacer</span><span style="color: #003399\; font-size: 9pt\; mso-fareast-font-family: 'Times New Roman'\; mso-bidi-font-family: Arial\; mso-ascii-font-family: Calibri\; mso-hansi-font-family: Calibri"> </span><span style="color: #003399\; font-size: 9pt\; mso-fareast-font-family: 'Times New Roman'\; mso-bidi-font-family: Arial\; mso-bidi-font-size: 11.0pt\; mso-ascii-font-family: Calibri\; mso-hansi-font-family: Calibri">crecer</span><span style="color: #003399\; font-size: 9pt\; mso-fareast-font-family: 'Times New Roman'\; mso-bidi-font-family: Arial\; mso-ascii-font-family: Calibri\; mso-hansi-font-family: Calibri"> </span><span style="color: #003399\; font-size: 9pt\; mso-fareast-font-family: 'Times New Roman'\; mso-bidi-font-family: Arial\; mso-bidi-font-size: 11.0pt\; mso-ascii-font-family: Calibri\; mso-hansi-font-family: Calibri">su</span><span style="color: #003399\; font-size: 9pt\; mso-fareast-font-family: 'Times New Roman'\; mso-bidi-font-family: Arial\; mso-ascii-font-family: Calibri\; mso-hansi-font-family: Calibri"> </span><span style="color: #003399\; font-size: 9pt\; mso-fareast-font-family: 'Times New Roman'\; mso-bidi-font-family: Arial\; mso-bidi-font-size: 11.0pt\; mso-ascii-font-family: Calibri\; mso-hansi-font-family: Calibri">negocio</span><span style="color: #003399\; font-size: 9pt\; mso-fareast-font-family: 'Times New Roman'\; mso-bidi-font-family: Arial\; mso-ascii-font-family: Calibri\; mso-hansi-font-family: Calibri">?&nbsp\;&nbsp\;&nbsp\;&nbsp\;</span><br />\n	<span lang="EN" style="font-family: 'Arial'\, 'sans-serif'\; color: gray\; font-size: 9pt\; mso-fareast-font-family: 'Times New Roman'\; mso-ansi-language: EN">&nbsp\;&nbsp\;&nbsp\;&nbsp\; </span><span style="color: #003399\; font-size: 9pt\; mso-fareast-font-family: 'Times New Roman'\; mso-bidi-font-family: Arial\; mso-ascii-font-family: Calibri\; mso-hansi-font-family: Calibri">EstrategiasVentas/</span><span style="color: #003399\; font-size: 9pt\; mso-fareast-font-family: 'Times New Roman'\; mso-bidi-font-family: Arial\; mso-bidi-font-size: 11.0pt\; mso-ascii-font-family: Calibri\; mso-hansi-font-family: Calibri">Mercadeo</span><span style="color: #003399\; font-size: 9pt\; mso-fareast-font-family: 'Times New Roman'\; mso-bidi-font-family: Arial\; mso-ascii-font-family: Calibri\; mso-hansi-font-family: Calibri"> y Promoci&oacute\;nen </span><span style="color: #003399\; font-size: 9pt\; mso-fareast-font-family: 'Times New Roman'\; mso-bidi-font-family: Arial\; mso-bidi-font-size: 11.0pt\; mso-ascii-font-family: Calibri\; mso-hansi-font-family: Calibri">Medios</span><span style="color: #003399\; font-size: 9pt\; mso-fareast-font-family: 'Times New Roman'\; mso-bidi-font-family: Arial\; mso-ascii-font-family: Calibri\; mso-hansi-font-family: Calibri"> de&nbsp\;Comunicaci&oacute\;n.</span><br />\n	<span style="color: #003399\; font-size: 9pt\; mso-fareast-font-family: 'Times New Roman'\; mso-bidi-font-family: Arial\; mso-ascii-font-family: Calibri\; mso-hansi-font-family: Calibri">Finanzasy </span><span style="color: #003399\; font-size: 9pt\; mso-fareast-font-family: 'Times New Roman'\; mso-bidi-font-family: Arial\; mso-bidi-font-size: 11.0pt\; mso-ascii-font-family: Calibri\; mso-hansi-font-family: Calibri">responsabilidades</span><span style="color: #003399\; font-size: 9pt\; mso-fareast-font-family: 'Times New Roman'\; mso-bidi-font-family: Arial\; mso-ascii-font-family: Calibri\; mso-hansi-font-family: Calibri"> fiscales.</span><br />\n	<span lang="EN" style="font-family: 'Arial'\, 'sans-serif'\; color: gray\; font-size: 9pt\; mso-fareast-font-family: 'Times New Roman'\; mso-ansi-language: EN">&nbsp\;</span><span style="color: #003399\; font-size: 9pt\; mso-fareast-font-family: 'Times New Roman'\; mso-bidi-font-family: Arial\; mso-ascii-font-family: Calibri\; mso-hansi-font-family: Calibri">Procedimientoslegales</span><span lang="EN" style="font-family: 'Arial'\, 'sans-serif'\; color: gray\; font-size: 9pt\; mso-fareast-font-family: 'Times New Roman'\; mso-ansi-language: EN">: </span><span style="color: #003399\; font-size: 9pt\; mso-fareast-font-family: 'Times New Roman'\; mso-bidi-font-family: Arial\; mso-ascii-font-family: Calibri\; mso-hansi-font-family: Calibri">obtenci&oacute\;nde </span><span style="color: #003399\; font-size: 9pt\; mso-fareast-font-family: 'Times New Roman'\; mso-bidi-font-family: Arial\; mso-bidi-font-size: 11.0pt\; mso-ascii-font-family: Calibri\; mso-hansi-font-family: Calibri">licencias</span><span style="color: #003399\; font-size: 9pt\; mso-fareast-font-family: 'Times New Roman'\; mso-bidi-font-family: Arial\; mso-ascii-font-family: Calibri\; mso-hansi-font-family: Calibri"> </span><span style="color: #003399\; font-size: 9pt\; mso-fareast-font-family: 'Times New Roman'\; mso-bidi-font-family: Arial\; mso-bidi-font-size: 11.0pt\; mso-ascii-font-family: Calibri\; mso-hansi-font-family: Calibri">comerciales</span><span style="color: #003399\; font-size: 9pt\; mso-fareast-font-family: 'Times New Roman'\; mso-bidi-font-family: Arial\; mso-ascii-font-family: Calibri\; mso-hansi-font-family: Calibri"> y&nbsp\;permisos. </span><br />\n	<br />\n	<span style="color: #003399\; font-size: 12pt\; mso-fareast-font-family: 'Times New Roman'\; mso-bidi-font-family: Arial\; mso-ascii-font-family: Calibri\; mso-hansi-font-family: Calibri">North Carolina Hispanic Chamber of Commerce</span><br />\n	<span style="color: #003399\; font-size: 9pt\; mso-fareast-font-family: 'Times New Roman'\; mso-bidi-font-family: Arial\; mso-ascii-font-family: Calibri\; mso-hansi-font-family: Calibri"><a href="http://www.nchispanicchamber.org/"><span style="color: #003399\; font-size: 9pt\; mso-fareast-font-family: 'Times New Roman'\; mso-bidi-font-family: Arial\; mso-ascii-font-family: Calibri\; mso-hansi-font-family: Calibri"><a href="http://www.nchispanicchamber.org/"><span style="color: #003399\; font-size: 9pt\; mso-fareast-font-family: 'Times New Roman'\; mso-bidi-font-family: Arial\; mso-ascii-font-family: Calibri\; mso-hansi-font-family: Calibri"><span style="color: #003399\; font-size: 9pt\; mso-fareast-font-family: 'Times New Roman'\; mso-bidi-font-family: Arial\; mso-ascii-font-family: Calibri\; mso-hansi-font-family: Calibri"><a href="http://www.nchispanicchamber.org/"><span style="color: #003399\; font-size: 9pt\; mso-fareast-font-family: 'Times New Roman'\; mso-bidi-font-family: Arial\; mso-ascii-font-family: Calibri\; mso-hansi-font-family: Calibri"><span style="color: #003399\; font-size: 9pt\; mso-fareast-font-family: 'Times New Roman'\; mso-bidi-font-family: Arial\; mso-ascii-font-family: Calibri\; mso-hansi-font-family: Calibri"><span style="color: #003399\; font-size: 9pt\; mso-fareast-font-family: 'Times New Roman'\; mso-bidi-font-family: Arial\; mso-ascii-font-family: Calibri\; mso-hansi-font-family: Calibri"><span style="color: #003399\; font-size: 9pt\; mso-fareast-font-family: 'Times New Roman'\; mso-bidi-font-family: Arial\; mso-ascii-font-family: Calibri\; mso-hansi-font-family: Calibri"><a href="http://www.nchispanicchamber.org/"><span style="color: #003399\; font-size: 9pt\; mso-fareast-font-family: 'Times New Roman'\; mso-bidi-font-family: Arial\; mso-ascii-font-family: Calibri\; mso-hansi-font-family: Calibri"><span style="color: #003399\; font-size: 9pt\; mso-fareast-font-family: 'Times New Roman'\; mso-bidi-font-family: Arial\; mso-ascii-font-family: Calibri\; mso-hansi-font-family: Calibri"><span style="color: #003399\; font-size: 9pt\; mso-fareast-font-family: 'Times New Roman'\; mso-bidi-font-family: Arial\; mso-ascii-font-family: Calibri\; mso-hansi-font-family: Calibri"><span style="color: #003399\; font-size: 9pt\; mso-fareast-font-family: 'Times New Roman'\; mso-bidi-font-family: Arial\; mso-ascii-font-family: Calibri\; mso-hansi-font-family: Calibri"><span style="color: #003399\; font-size: 9pt\; mso-fareast-font-family: 'Times New Roman'\; mso-bidi-font-family: Arial\; mso-ascii-font-family: Calibri\; mso-hansi-font-family: Calibri"><span style="color: #003399\; font-size: 9pt\; mso-fareast-font-family: 'Times New Roman'\; mso-bidi-font-family: Arial\; mso-ascii-font-family: Calibri\; mso-hansi-font-family: Calibri"><span style="color: #003399\; font-size: 9pt\; mso-fareast-font-family: 'Times New Roman'\; mso-bidi-font-family: Arial\; mso-ascii-font-family: Calibri\; mso-hansi-font-family: Calibri"><span style="color: #003399\; font-size: 9pt\; mso-fareast-font-family: 'Times New Roman'\; mso-bidi-font-family: Arial\; mso-ascii-font-family: Calibri\; mso-hansi-font-family: Calibri"><a href="http://www.nchispanicchamber.org/"><span style="color: blue\; mso-bidi-font-size: 11.0pt">www.nchispanicchamber.org</span></a></span></span></span></span></span></span></span></span></a></span></span></span></span></a></span></span></a></span></a></span><span lang="EN" style="font-family: 'Arial'\, 'sans-serif'\; color: gray\; font-size: 9pt\; mso-fareast-font-family: 'Times New Roman'\; mso-ansi-language: EN"><o:p></o:p></span></span></span></p>\n
LOCATION:Sede Cooperativa Latina 100 West Morgan St\, Durham\, NC 27701
UID:e.1552.53
SEQUENCE:3
DTSTAMP:20260426T000354Z
URL:https://mobile.nchispanicchamber.org/events/details/emprendedores-nc-durham-05-11-2013-53
END:VEVENT

END:VCALENDAR
