BEGIN:VCALENDAR
VERSION:2.0
PRODID:-//ChamberMaster//Event Calendar 2.0//EN
METHOD:PUBLISH
X-PUBLISHED-TTL:P3D
REFRESH-INTERVAL:P3D
CALSCALE:GREGORIAN
BEGIN:VEVENT
DTSTART:20130518T130000Z
DTEND:20130518T180000Z
X-MICROSOFT-CDO-ALLDAYEVENT:FALSE
SUMMARY:Emprendedores NC - Durham
DESCRIPTION:Emprendedores NC\n\nHaga realidad su sueño de tener negocio propio!\n \nClases Gratis ?  En Español\n¡ Inscríbase ya !   \n(919) 782-8764\n \nDeberá asistir a los 2 talleres (Mayo 11 y Mayo18) para que aprenda sobre: \n\n¿Está listo para empezaro hacer crecer su negocio?    \n     EstrategiasVentas/Mercadeo y Promociónen Medios de Comunicación.\nFinanzasy responsabilidades fiscales.\n Procedimientoslegales: obtenciónde licencias comerciales y permisos. \n\nNorth Carolina Hispanic Chamber of Commerce\nwww.nchispanicchamber.org
X-ALT-DESC;FMTTYPE=text/html:<P style="TEXT-ALIGN: center\; LINE-HEIGHT: normal\; MARGIN: 0in 0in 0pt" class=MsoNormal align=center><B><SPAN style="FONT-FAMILY: 'Arial'\, 'sans-serif'\; COLOR: blue\; FONT-SIZE: 19.5pt\; mso-fareast-font-family: 'Times New Roman'\; mso-ansi-language: EN\; mso-bidi-font-size: 11.0pt" lang=EN><FONT face=Arial>Emprendedores NC</FONT></SPAN></B><BR><BR><I><SPAN style="FONT-FAMILY: 'Trebuchet MS'\, 'sans-serif'\; COLOR: black\; FONT-SIZE: 15pt\; mso-fareast-font-family: 'Times New Roman'\; mso-ansi-language: EN\; mso-bidi-font-family: Arial\; mso-bidi-font-size: 11.0pt" lang=EN><FONT face="Trebuchet MS">Haga realidad su sueño de tener negocio propio</FONT></SPAN></I><SPAN style="FONT-FAMILY: 'Trebuchet MS'\, 'sans-serif'\; COLOR: black\; FONT-SIZE: 15pt\; mso-fareast-font-family: 'Times New Roman'\; mso-ansi-language: EN\; mso-bidi-font-family: Arial" lang=EN>!</SPAN><BR><SPAN style="FONT-FAMILY: 'Trebuchet MS'\, 'sans-serif'\; COLOR: black\; FONT-SIZE: 11.5pt\; mso-fareast-font-family: 'Times New Roman'\; mso-ansi-language: EN\; mso-bidi-font-family: Arial" lang=EN>&nbsp\;</SPAN><BR><FONT face=Calibri><B><SPAN style="COLOR: #ff9900\; FONT-SIZE: 13.5pt\; text-shadow: auto\; mso-fareast-font-family: 'Times New Roman'\; mso-ansi-language: ES\; mso-bidi-font-family: Arial\; mso-bidi-font-size: 11.0pt\; mso-ascii-font-family: Calibri\; mso-hansi-font-family: Calibri" lang=ES>Clases</SPAN></B><B><SPAN style="COLOR: #ff9900\; FONT-SIZE: 13.5pt\; text-shadow: auto\; mso-fareast-font-family: 'Times New Roman'\; mso-ansi-language: ES\; mso-bidi-font-family: Arial\; mso-ascii-font-family: Calibri\; mso-hansi-font-family: Calibri" lang=ES> Gratis ?&nbsp\; En </SPAN></B><B><SPAN style="COLOR: #ff9900\; FONT-SIZE: 13.5pt\; text-shadow: auto\; mso-fareast-font-family: 'Times New Roman'\; mso-ansi-language: ES\; mso-bidi-font-family: Arial\; mso-bidi-font-size: 11.0pt\; mso-ascii-font-family: Calibri\; mso-hansi-font-family: Calibri" lang=ES>Español</SPAN></B></FONT><BR><FONT face=Calibri><B><SPAN style="COLOR: #ff9900\; FONT-SIZE: 11.5pt\; mso-fareast-font-family: 'Times New Roman'\; mso-ansi-language: ES\; mso-bidi-font-family: Arial\; mso-ascii-font-family: Calibri\; mso-hansi-font-family: Calibri" lang=ES>¡ </SPAN></B><B><SPAN style="COLOR: #ff9900\; FONT-SIZE: 11.5pt\; mso-fareast-font-family: 'Times New Roman'\; mso-ansi-language: ES\; mso-bidi-font-family: Arial\; mso-bidi-font-size: 11.0pt\; mso-ascii-font-family: Calibri\; mso-hansi-font-family: Calibri" lang=ES>Inscríbase</SPAN></B><B><SPAN style="COLOR: #ff9900\; FONT-SIZE: 11.5pt\; mso-fareast-font-family: 'Times New Roman'\; mso-ansi-language: ES\; mso-bidi-font-family: Arial\; mso-ascii-font-family: Calibri\; mso-hansi-font-family: Calibri" lang=ES> </SPAN></B><B><SPAN style="COLOR: #ff9900\; FONT-SIZE: 11.5pt\; mso-fareast-font-family: 'Times New Roman'\; mso-ansi-language: ES\; mso-bidi-font-family: Arial\; mso-bidi-font-size: 11.0pt\; mso-ascii-font-family: Calibri\; mso-hansi-font-family: Calibri" lang=ES>ya</SPAN></B><B><SPAN style="COLOR: #ff9900\; FONT-SIZE: 11.5pt\; mso-fareast-font-family: 'Times New Roman'\; mso-ansi-language: ES\; mso-bidi-font-family: Arial\; mso-ascii-font-family: Calibri\; mso-hansi-font-family: Calibri" lang=ES> !&nbsp\; </SPAN></B></FONT><SPAN style="FONT-FAMILY: 'Arial'\, 'sans-serif'\; COLOR: gray\; FONT-SIZE: 9pt\; mso-fareast-font-family: 'Times New Roman'\; mso-ansi-language: EN" lang=EN>&nbsp\;</SPAN><BR><B><SPAN style="COLOR: #ff9900\; FONT-SIZE: 9pt\; mso-fareast-font-family: 'Times New Roman'\; mso-ansi-language: ES\; mso-bidi-font-family: Arial\; mso-ascii-font-family: Calibri\; mso-hansi-font-family: Calibri" lang=ES><FONT face=Calibri>(919) 782-8764<O:P></O:P></FONT></SPAN></B></P>\n<P style="TEXT-ALIGN: center\; LINE-HEIGHT: normal\; MARGIN: 0in 0in 0pt" class=MsoNormal align=center><B><SPAN style="COLOR: #ff9900\; FONT-SIZE: 9pt\; mso-fareast-font-family: 'Times New Roman'\; mso-ansi-language: ES\; mso-bidi-font-family: Arial\; mso-ascii-font-family: Calibri\; mso-hansi-font-family: Calibri" lang=ES><O:P><FONT face=Calibri>&nbsp\;</FONT></O:P></SPAN></B></P>\n<P style="TEXT-ALIGN: center\; LINE-HEIGHT: normal\; MARGIN: 0in 0in 0pt" class=MsoNormal align=center><SPAN class=scayt-misspell3><SPAN style="FONT-FAMILY: 'Arial'\, 'sans-serif'\; COLOR: gray\; FONT-SIZE: 9pt\; mso-ansi-language: EN" lang=EN>Deberá</SPAN></SPAN><SPAN style="FONT-FAMILY: 'Arial'\, 'sans-serif'\; COLOR: gray\; FONT-SIZE: 9pt\; mso-ansi-language: EN" lang=EN> <SPAN class=scayt-misspell3>asistir</SPAN> a los 2&nbsp\;<SPAN class=scayt-misspell3>talleres</SPAN> (<SPAN class=scayt-misspell3>Mayo 11 y <SPAN class=scayt-misspell3>Mayo18) <SPAN class=scayt-misspell3>para</SPAN> <SPAN class=scayt-misspell3>que</SPAN> <SPAN class=scayt-misspell3>aprenda</SPAN> <SPAN class=scayt-misspell3>sobre</SPAN>: </SPAN><BR><BR><SPAN style="COLOR: #003399\; FONT-SIZE: 9pt\; mso-fareast-font-family: 'Times New Roman'\; mso-bidi-font-family: Arial\; mso-ascii-font-family: Calibri\; mso-hansi-font-family: Calibri">¿</SPAN><SPAN style="COLOR: #003399\; FONT-SIZE: 9pt\; mso-fareast-font-family: 'Times New Roman'\; mso-bidi-font-family: Arial\; mso-bidi-font-size: 11.0pt\; mso-ascii-font-family: Calibri\; mso-hansi-font-family: Calibri">Está</SPAN><SPAN style="COLOR: #003399\; FONT-SIZE: 9pt\; mso-fareast-font-family: 'Times New Roman'\; mso-bidi-font-family: Arial\; mso-ascii-font-family: Calibri\; mso-hansi-font-family: Calibri"> </SPAN><SPAN style="COLOR: #003399\; FONT-SIZE: 9pt\; mso-fareast-font-family: 'Times New Roman'\; mso-bidi-font-family: Arial\; mso-bidi-font-size: 11.0pt\; mso-ascii-font-family: Calibri\; mso-hansi-font-family: Calibri">listo</SPAN><SPAN style="COLOR: #003399\; FONT-SIZE: 9pt\; mso-fareast-font-family: 'Times New Roman'\; mso-bidi-font-family: Arial\; mso-ascii-font-family: Calibri\; mso-hansi-font-family: Calibri"> </SPAN><SPAN style="COLOR: #003399\; FONT-SIZE: 9pt\; mso-fareast-font-family: 'Times New Roman'\; mso-bidi-font-family: Arial\; mso-bidi-font-size: 11.0pt\; mso-ascii-font-family: Calibri\; mso-hansi-font-family: Calibri">para</SPAN><SPAN style="COLOR: #003399\; FONT-SIZE: 9pt\; mso-fareast-font-family: 'Times New Roman'\; mso-bidi-font-family: Arial\; mso-ascii-font-family: Calibri\; mso-hansi-font-family: Calibri"> empezaro </SPAN><SPAN style="COLOR: #003399\; FONT-SIZE: 9pt\; mso-fareast-font-family: 'Times New Roman'\; mso-bidi-font-family: Arial\; mso-bidi-font-size: 11.0pt\; mso-ascii-font-family: Calibri\; mso-hansi-font-family: Calibri">hacer</SPAN><SPAN style="COLOR: #003399\; FONT-SIZE: 9pt\; mso-fareast-font-family: 'Times New Roman'\; mso-bidi-font-family: Arial\; mso-ascii-font-family: Calibri\; mso-hansi-font-family: Calibri"> </SPAN><SPAN style="COLOR: #003399\; FONT-SIZE: 9pt\; mso-fareast-font-family: 'Times New Roman'\; mso-bidi-font-family: Arial\; mso-bidi-font-size: 11.0pt\; mso-ascii-font-family: Calibri\; mso-hansi-font-family: Calibri">crecer</SPAN><SPAN style="COLOR: #003399\; FONT-SIZE: 9pt\; mso-fareast-font-family: 'Times New Roman'\; mso-bidi-font-family: Arial\; mso-ascii-font-family: Calibri\; mso-hansi-font-family: Calibri"> </SPAN><SPAN style="COLOR: #003399\; FONT-SIZE: 9pt\; mso-fareast-font-family: 'Times New Roman'\; mso-bidi-font-family: Arial\; mso-bidi-font-size: 11.0pt\; mso-ascii-font-family: Calibri\; mso-hansi-font-family: Calibri">su</SPAN><SPAN style="COLOR: #003399\; FONT-SIZE: 9pt\; mso-fareast-font-family: 'Times New Roman'\; mso-bidi-font-family: Arial\; mso-ascii-font-family: Calibri\; mso-hansi-font-family: Calibri"> </SPAN><SPAN style="COLOR: #003399\; FONT-SIZE: 9pt\; mso-fareast-font-family: 'Times New Roman'\; mso-bidi-font-family: Arial\; mso-bidi-font-size: 11.0pt\; mso-ascii-font-family: Calibri\; mso-hansi-font-family: Calibri">negocio</SPAN><SPAN style="COLOR: #003399\; FONT-SIZE: 9pt\; mso-fareast-font-family: 'Times New Roman'\; mso-bidi-font-family: Arial\; mso-ascii-font-family: Calibri\; mso-hansi-font-family: Calibri">?&nbsp\;&nbsp\;&nbsp\;&nbsp\;</SPAN><BR><SPAN style="FONT-FAMILY: 'Arial'\, 'sans-serif'\; COLOR: gray\; FONT-SIZE: 9pt\; mso-fareast-font-family: 'Times New Roman'\; mso-ansi-language: EN" lang=EN>&nbsp\;&nbsp\;&nbsp\;&nbsp\; </SPAN><SPAN style="COLOR: #003399\; FONT-SIZE: 9pt\; mso-fareast-font-family: 'Times New Roman'\; mso-bidi-font-family: Arial\; mso-ascii-font-family: Calibri\; mso-hansi-font-family: Calibri">EstrategiasVentas/</SPAN><SPAN style="COLOR: #003399\; FONT-SIZE: 9pt\; mso-fareast-font-family: 'Times New Roman'\; mso-bidi-font-family: Arial\; mso-bidi-font-size: 11.0pt\; mso-ascii-font-family: Calibri\; mso-hansi-font-family: Calibri">Mercadeo</SPAN><SPAN style="COLOR: #003399\; FONT-SIZE: 9pt\; mso-fareast-font-family: 'Times New Roman'\; mso-bidi-font-family: Arial\; mso-ascii-font-family: Calibri\; mso-hansi-font-family: Calibri"> y Promociónen </SPAN><SPAN style="COLOR: #003399\; FONT-SIZE: 9pt\; mso-fareast-font-family: 'Times New Roman'\; mso-bidi-font-family: Arial\; mso-bidi-font-size: 11.0pt\; mso-ascii-font-family: Calibri\; mso-hansi-font-family: Calibri">Medios</SPAN><SPAN style="COLOR: #003399\; FONT-SIZE: 9pt\; mso-fareast-font-family: 'Times New Roman'\; mso-bidi-font-family: Arial\; mso-ascii-font-family: Calibri\; mso-hansi-font-family: Calibri"> de&nbsp\;Comunicación.</SPAN><BR><SPAN style="COLOR: #003399\; FONT-SIZE: 9pt\; mso-fareast-font-family: 'Times New Roman'\; mso-bidi-font-family: Arial\; mso-ascii-font-family: Calibri\; mso-hansi-font-family: Calibri">Finanzasy </SPAN><SPAN style="COLOR: #003399\; FONT-SIZE: 9pt\; mso-fareast-font-family: 'Times New Roman'\; mso-bidi-font-family: Arial\; mso-bidi-font-size: 11.0pt\; mso-ascii-font-family: Calibri\; mso-hansi-font-family: Calibri">responsabilidades</SPAN><SPAN style="COLOR: #003399\; FONT-SIZE: 9pt\; mso-fareast-font-family: 'Times New Roman'\; mso-bidi-font-family: Arial\; mso-ascii-font-family: Calibri\; mso-hansi-font-family: Calibri"> fiscales.</SPAN><BR><SPAN style="FONT-FAMILY: 'Arial'\, 'sans-serif'\; COLOR: gray\; FONT-SIZE: 9pt\; mso-fareast-font-family: 'Times New Roman'\; mso-ansi-language: EN" lang=EN>&nbsp\;</SPAN><SPAN style="COLOR: #003399\; FONT-SIZE: 9pt\; mso-fareast-font-family: 'Times New Roman'\; mso-bidi-font-family: Arial\; mso-ascii-font-family: Calibri\; mso-hansi-font-family: Calibri">Procedimientoslegales</SPAN><SPAN style="FONT-FAMILY: 'Arial'\, 'sans-serif'\; COLOR: gray\; FONT-SIZE: 9pt\; mso-fareast-font-family: 'Times New Roman'\; mso-ansi-language: EN" lang=EN>: </SPAN><SPAN style="COLOR: #003399\; FONT-SIZE: 9pt\; mso-fareast-font-family: 'Times New Roman'\; mso-bidi-font-family: Arial\; mso-ascii-font-family: Calibri\; mso-hansi-font-family: Calibri">obtenciónde </SPAN><SPAN style="COLOR: #003399\; FONT-SIZE: 9pt\; mso-fareast-font-family: 'Times New Roman'\; mso-bidi-font-family: Arial\; mso-bidi-font-size: 11.0pt\; mso-ascii-font-family: Calibri\; mso-hansi-font-family: Calibri">licencias</SPAN><SPAN style="COLOR: #003399\; FONT-SIZE: 9pt\; mso-fareast-font-family: 'Times New Roman'\; mso-bidi-font-family: Arial\; mso-ascii-font-family: Calibri\; mso-hansi-font-family: Calibri"> </SPAN><SPAN style="COLOR: #003399\; FONT-SIZE: 9pt\; mso-fareast-font-family: 'Times New Roman'\; mso-bidi-font-family: Arial\; mso-bidi-font-size: 11.0pt\; mso-ascii-font-family: Calibri\; mso-hansi-font-family: Calibri">comerciales</SPAN><SPAN style="COLOR: #003399\; FONT-SIZE: 9pt\; mso-fareast-font-family: 'Times New Roman'\; mso-bidi-font-family: Arial\; mso-ascii-font-family: Calibri\; mso-hansi-font-family: Calibri"> y&nbsp\;permisos. </SPAN><BR><BR><SPAN style="COLOR: #003399\; FONT-SIZE: 12pt\; mso-fareast-font-family: 'Times New Roman'\; mso-bidi-font-family: Arial\; mso-ascii-font-family: Calibri\; mso-hansi-font-family: Calibri">North Carolina Hispanic Chamber of Commerce</SPAN><BR><SPAN style="COLOR: #003399\; FONT-SIZE: 9pt\; mso-fareast-font-family: 'Times New Roman'\; mso-bidi-font-family: Arial\; mso-ascii-font-family: Calibri\; mso-hansi-font-family: Calibri"><A href="http://www.nchispanicchamber.org/"><SPAN style="COLOR: #003399\; FONT-SIZE: 9pt\; mso-fareast-font-family: 'Times New Roman'\; mso-bidi-font-family: Arial\; mso-ascii-font-family: Calibri\; mso-hansi-font-family: Calibri"><A href="http://www.nchispanicchamber.org/"><SPAN style="COLOR: #003399\; FONT-SIZE: 9pt\; mso-fareast-font-family: 'Times New Roman'\; mso-bidi-font-family: Arial\; mso-ascii-font-family: Calibri\; mso-hansi-font-family: Calibri"><SPAN style="COLOR: #003399\; FONT-SIZE: 9pt\; mso-fareast-font-family: 'Times New Roman'\; mso-bidi-font-family: Arial\; mso-ascii-font-family: Calibri\; mso-hansi-font-family: Calibri"><A href="http://www.nchispanicchamber.org/"><SPAN style="COLOR: #003399\; FONT-SIZE: 9pt\; mso-fareast-font-family: 'Times New Roman'\; mso-bidi-font-family: Arial\; mso-ascii-font-family: Calibri\; mso-hansi-font-family: Calibri"><SPAN style="COLOR: #003399\; FONT-SIZE: 9pt\; mso-fareast-font-family: 'Times New Roman'\; mso-bidi-font-family: Arial\; mso-ascii-font-family: Calibri\; mso-hansi-font-family: Calibri"><SPAN style="COLOR: #003399\; FONT-SIZE: 9pt\; mso-fareast-font-family: 'Times New Roman'\; mso-bidi-font-family: Arial\; mso-ascii-font-family: Calibri\; mso-hansi-font-family: Calibri"><SPAN style="COLOR: #003399\; FONT-SIZE: 9pt\; mso-fareast-font-family: 'Times New Roman'\; mso-bidi-font-family: Arial\; mso-ascii-font-family: Calibri\; mso-hansi-font-family: Calibri"><A href="http://www.nchispanicchamber.org/"><SPAN style="COLOR: blue\; mso-bidi-font-size: 11.0pt">www.nchispanicchamber.org</SPAN></A></SPAN></SPAN></SPAN></SPAN></A></SPAN></SPAN></A></SPAN></A></SPAN><SPAN style="FONT-FAMILY: 'Arial'\, 'sans-serif'\; COLOR: gray\; FONT-SIZE: 9pt\; mso-fareast-font-family: 'Times New Roman'\; mso-ansi-language: EN" lang=EN><O:P></O:P></SPAN></SPAN></SPAN></P>
LOCATION:Sede Cooperativa Latina 100 West Morgan St\, Durham\, NC 27701
UID:e.1552.54
SEQUENCE:3
DTSTAMP:20260426T003129Z
URL:https://mobile.nchispanicchamber.org/events/details/emprendedores-nc-durham-05-18-2013-54
END:VEVENT

END:VCALENDAR
