BEGIN:VCALENDAR
VERSION:2.0
PRODID:-//ChamberMaster//Event Calendar 2.0//EN
METHOD:PUBLISH
X-PUBLISHED-TTL:P3D
REFRESH-INTERVAL:P3D
CALSCALE:GREGORIAN
BEGIN:VEVENT
DTSTART:20130420T130000Z
DTEND:20130420T180000Z
X-MICROSOFT-CDO-ALLDAYEVENT:FALSE
SUMMARY:Emprendedores NC - Fayeteville
DESCRIPTION:Emprendedores NC\n\n	\n\n	Haga realidad su sue o de tener negocio propio!\n\n	 \n\n	Clases Gratis    En Espa ol\n\n	  Inscr base ya !   \n\n	(919) 782-8764\n\n	\n\n	Deber  asistir a los 2 talleres (abril 20 y abril 27) para que aprenda sobre:\n\n	\n\n	 Est  listo para empezaro hacer crecer su negocio?    \n\n	     EstrategiasVentas/Mercadeo y Promoci nen Medios de  Comunicaci n.\n\n	Finanzasy responsabilidades fiscales.\n\n	 Procedimientoslegales: obtenci nde licencias comerciales y permisos. \n\n	\n\n	North Carolina Hispanic Chamber of Commerce\n\n	www.nchispanicchamber.org
X-ALT-DESC;FMTTYPE=text/html:<div style="text-align: center\; color: gray">\n	<span style="font-size: 26px"><strong><span style="color: #0000ff">Emprendedores NC</span></strong></span><br />\n	<br />\n	<span style="font-size: 20px"><em><span style="color: black"><span style="font-family: trebuchet ms\, sans-serif"><span style="font-family: trebuchet ms">Haga realidad su sue&ntilde\;o de tener negocio propio</span></span></span></em></span><span style="font-size: 11.5pt"><span style="color: black"><span style="font-family: trebuchet ms\, sans-serif"><span style="font-family: trebuchet ms"><span style="font-size: 20px">!</span></span><br />\n	&nbsp\;<br />\n	<span style="font-size: 18px"><span style="font-weight: bold\; text-shadow: auto\; language: es"><span style="color: #ff9900"><span style="font-family: calibri">Clases Gratis &ndash\;&nbsp\; En Espa&ntilde\;ol</span></span></span></span></span><br />\n	<span style="font-weight: bold\; language: es"><span style="color: #ff9900"><span style="font-family: calibri">&iexcl\; Inscr&iacute\;base ya !&nbsp\; </span></span></span></span></span>&nbsp\;<br />\n	<span style="font-weight: bold\; language: es"><span style="color: #ff9900"><span style="font-family: calibri">(919) 782-8764</span></span></span><br />\n	<br />\n	Deber&aacute\; asistir a los 2&nbsp\;talleres (abril 20 y abril 27) para que aprenda sobre:<br />\n	<br />\n	<span style="font-size: 12px"><span style="language: en-us"><span style="color: #003399"><span style="font-family: calibri">&iquest\;Est&aacute\; </span></span></span></span><span style="language: en-us"><span style="color: #003399"><span style="font-family: calibri">listo </span></span></span><span style="language: en-us"><span style="color: #003399"><span style="font-family: calibri">para </span></span></span><span style="language: en-us"><span style="color: #003399"><span style="font-family: calibri">empezar</span></span></span><span style="language: en-us"><span style="color: #003399"><span style="font-family: calibri">o </span></span></span><span style="language: en-us"><span style="color: #003399"><span style="font-family: calibri">hacer </span></span></span><span style="language: en-us"><span style="color: #003399"><span style="font-family: calibri">crecer </span></span></span><span style="language: en-us"><span style="color: #003399"><span style="font-family: calibri">su </span></span></span><span style="language: en-us"><span style="color: #003399"><span style="font-family: calibri">negocio</span></span></span><span style="language: en-us"><span style="color: #003399"><span style="font-family: calibri">?&nbsp\;&nbsp\;&nbsp\; </span></span></span><br />\n	&nbsp\;&nbsp\;&nbsp\;&nbsp\; <span style="language: en-us"><span style="color: #003399"><span style="font-family: calibri">Estrategias</span></span></span><span style="language: en-us"><span style="color: #003399"><span style="font-family: calibri">Ventas</span></span></span><span style="language: en-us"><span style="color: #003399"><span style="font-family: calibri">/</span></span></span><span style="language: en-us"><span style="color: #003399"><span style="font-family: calibri">Mercadeo </span></span></span><span style="language: en-us"><span style="color: #003399"><span style="font-family: calibri">y </span></span></span><span style="language: en-us"><span style="color: #003399"><span style="font-family: calibri">Promoci&oacute\;n</span></span></span><span style="language: en-us"><span style="color: #003399"><span style="font-family: calibri">en </span></span></span><span style="language: en-us"><span style="color: #003399"><span style="font-family: calibri">Medios </span></span></span><span style="language: en-us"><span style="color: #003399"><span style="font-family: calibri">de&nbsp\; </span></span></span><span style="language: en-us"><span style="color: #003399"><span style="font-family: calibri">Comunicaci&oacute\;n</span></span></span><span style="language: en-us"><span style="color: #003399"><span style="font-family: calibri">.</span></span></span><br />\n	<span style="language: en-us"><span style="color: #003399"><span style="font-family: calibri">Finanzas</span></span></span><span style="language: en-us"><span style="color: #003399"><span style="font-family: calibri">y </span></span></span><span style="language: en-us"><span style="color: #003399"><span style="font-family: calibri">responsabilidades </span></span></span><span style="language: en-us"><span style="color: #003399"><span style="font-family: calibri">fiscales</span></span></span><span style="language: en-us"><span style="color: #003399"><span style="font-family: calibri">.</span></span></span><br />\n	&nbsp\;<span style="language: en-us"><span style="color: #003399"><span style="font-family: calibri">Procedimientos</span></span></span><span style="language: en-us"><span style="color: #003399"><span style="font-family: calibri">legales</span></span></span>: <span style="language: en-us"><span style="color: #003399"><span style="font-family: calibri">obtenci&oacute\;n</span></span></span><span style="language: en-us"><span style="color: #003399"><span style="font-family: calibri">de </span></span></span><span style="language: en-us"><span style="color: #003399"><span style="font-family: calibri">licencias </span></span></span><span style="language: en-us"><span style="color: #003399"><span style="font-family: calibri">comerciales </span></span></span><span style="language: en-us"><span style="color: #003399"><span style="font-family: calibri">y&nbsp\;</span></span></span><span style="language: en-us"><span style="color: #003399"><span style="font-family: calibri">permisos</span></span></span><span style="language: en-us"><span style="color: #003399"><span style="font-family: calibri">. </span></span></span><br />\n	<br />\n	<span style="font-size: 16px"><span style="language: en-us"><span style="color: #003399"><span style="font-family: calibri">North Carolina Hispanic Chamber of Commerce</span></span></span></span><br />\n	<span style="language: en-us"><span style="color: #003399"><span style="font-family: calibri"><a href="http://www.nchispanicchamber.org">www.nchispanicchamber.org</a></span></span></span><br />\n	&nbsp\;</div>\n
LOCATION:Sede Cooperativa Latina 155 Bonanza Drive Suite 103 Fayetteville\, NC 28303
UID:e.1552.45
SEQUENCE:3
DTSTAMP:20260426T024344Z
URL:https://mobile.nchispanicchamber.org/events/details/emprendedores-nc-fayeteville-04-20-2013-45
END:VEVENT

END:VCALENDAR
