BEGIN:VCALENDAR
VERSION:2.0
PRODID:-//ChamberMaster//Event Calendar 2.0//EN
METHOD:PUBLISH
X-PUBLISHED-TTL:P3D
REFRESH-INTERVAL:P3D
CALSCALE:GREGORIAN
BEGIN:VEVENT
DTSTART:20130427T130000Z
DTEND:20130427T180000Z
X-MICROSOFT-CDO-ALLDAYEVENT:FALSE
SUMMARY:Emprendedores NC - Fayetteville
DESCRIPTION:Emprendedores NC\n\n	\n\n	Haga realidad su sue o de tener negocio propio!\n\n	 \n\n	Clases Gratis    En Espa ol\n\n	  Inscr base ya !   \n\n	(919) 782-8764\n\n	 \n\n	Deber  asistir a los 2 talleres (abril 20 y abril 27) para que aprenda sobre:\n\n	\n\n	 Est  listo para empezaro hacer crecer su negocio?    \n\n	     EstrategiasVentas/Mercadeo y Promoci nen Medios de  Comunicaci n.\n\n	Finanzasy responsabilidades fiscales.\n\n	 Procedimientoslegales: obtenci nde licencias comerciales y permisos. \n\n	\n\n	North Carolina Hispanic Chamber of Commerce\n\n	www.nchispanicchamber.org
X-ALT-DESC;FMTTYPE=text/html:<div style="text-align: center">\n	<strong><span style="font-size: 19.5pt"><span style="color: blue"><span style="font-family: arial\, sans-serif"><span style="font-family: arial">Emprendedores NC</span></span></span></span></strong><br />\n	<br />\n	<em><span style="font-size: 15pt"><span style="color: black"><span style="font-family: trebuchet ms\, sans-serif"><span style="font-family: trebuchet ms">Haga realidad su sue&ntilde\;o de tener negocio propio</span></span></span></span></em><span style="font-size: 15pt"><span style="color: black"><span style="font-family: trebuchet ms\, sans-serif">!</span></span></span><br />\n	&nbsp\;<br />\n	<span style="font-family: calibri"><strong><span style="text-shadow: auto"><span style="font-size: 13.5pt"><span style="color: #ff9900">Clases</span></span></span></strong><strong><span style="text-shadow: auto"><span style="font-size: 13.5pt"><span style="color: #ff9900"> Gratis &ndash\;&nbsp\; En </span></span></span></strong><strong><span style="text-shadow: auto"><span style="font-size: 13.5pt"><span style="color: #ff9900">Espa&ntilde\;ol</span></span></span></strong></span><br />\n	<span style="font-family: calibri"><strong><span style="font-size: 11.5pt"><span style="color: #ff9900">&iexcl\; </span></span></strong></span><strong><span style="font-size: 11.5pt"><span style="color: #ff9900">Inscr&iacute\;base</span></span></strong> <strong><span style="font-size: 11.5pt"><span style="color: #ff9900">ya</span></span></strong><strong><span style="font-size: 11.5pt"><span style="color: #ff9900"> !&nbsp\; </span></span></strong>&nbsp\;<br />\n	<strong><span style="font-size: 9pt"><span style="color: #ff9900"><span style="font-family: calibri">(919) 782-8764</span></span></span></strong><br />\n	&nbsp\;<br />\n	<span style="font-size: 9pt"><span style="color: gray"><span style="font-family: arial\, sans-serif">Deber&aacute\;</span></span></span><span style="font-size: 9pt"><span style="color: gray"><span style="font-family: arial\, sans-serif"> asistir</span> a los 2&nbsp\;talleres</span> (abril</span> 20 y abril 27) para que aprenda sobre:<br />\n	<br />\n	<span style="font-family: calibri"><span style="font-size: 9pt"><span style="color: #003399">&iquest\;</span></span></span><span style="font-size: 9pt"><span style="color: #003399">Est&aacute\;</span></span> <span style="font-size: 9pt"><span style="color: #003399">listo</span></span> <span style="font-size: 9pt"><span style="color: #003399">para</span></span><span style="font-size: 9pt"><span style="color: #003399"> empezaro </span></span><span style="font-size: 9pt"><span style="color: #003399">hacer</span></span> <span style="font-size: 9pt"><span style="color: #003399">crecer</span></span> <span style="font-size: 9pt"><span style="color: #003399">su</span></span> <span style="font-size: 9pt"><span style="color: #003399">negocio</span></span><span style="font-size: 9pt"><span style="color: #003399">?&nbsp\;&nbsp\;&nbsp\;&nbsp\;</span></span><br />\n	&nbsp\;&nbsp\;&nbsp\;&nbsp\; <span style="font-family: calibri"><span style="font-size: 9pt"><span style="color: #003399">EstrategiasVentas/</span></span></span><span style="font-size: 9pt"><span style="color: #003399">Mercadeo</span></span><span style="font-size: 9pt"><span style="color: #003399"> y Promoci&oacute\;nen </span></span><span style="font-size: 9pt"><span style="color: #003399">Medios</span></span><span style="font-size: 9pt"><span style="color: #003399"> de&nbsp\; Comunicaci&oacute\;n.</span></span><br />\n	<span style="font-family: calibri"><span style="font-size: 9pt"><span style="color: #003399">Finanzasy </span></span></span><span style="font-size: 9pt"><span style="color: #003399">responsabilidades</span></span><span style="font-size: 9pt"><span style="color: #003399"> fiscales.</span></span><br />\n	&nbsp\;<span style="font-size: 9pt"><span style="color: #003399"><span style="font-family: calibri">Procedimientoslegales</span></span></span>: <span style="font-family: calibri"><span style="font-size: 9pt"><span style="color: #003399">obtenci&oacute\;nde </span></span></span><span style="font-size: 9pt"><span style="color: #003399">licencias</span></span> <span style="font-size: 9pt"><span style="color: #003399">comerciales</span></span><span style="font-size: 9pt"><span style="color: #003399"> y&nbsp\;permisos. </span></span><br />\n	<br />\n	<span style="font-size: 12pt"><span style="color: #003399"><span style="font-family: calibri">North Carolina Hispanic Chamber of Commerce</span></span></span><br />\n	<span style="font-size: 9pt"><span style="color: #003399"><a href="http://www.nchispanicchamber.org/"><span style="font-size: 9pt"><span style="color: #003399"><a href="http://www.nchispanicchamber.org/"><span style="font-size: 9pt"><span style="color: #003399"><span style="font-size: 9pt"><span style="color: #003399"><a href="http://www.nchispanicchamber.org/"><span style="font-size: 9pt"><span style="color: #003399"><span style="font-size: 9pt"><span style="color: #003399"><span style="font-size: 9pt"><span style="color: #003399"><span style="font-size: 9pt"><span style="color: #003399"><a href="http://www.nchispanicchamber.org/"><span style="font-size: 9pt"><span style="color: #003399"><span style="font-size: 9pt"><span style="color: #003399"><span style="font-size: 9pt"><span style="color: #003399"><span style="font-size: 9pt"><span style="color: #003399"><span style="font-size: 9pt"><span style="color: #003399"><span style="font-size: 9pt"><span style="color: #003399"><span style="font-size: 9pt"><span style="color: #003399"><span style="font-size: 9pt"><span style="color: #003399"><a href="http://www.nchispanicchamber.org/"><span style="font-size: 9pt"><span style="color: #003399"><span style="font-size: 9pt"><span style="color: #003399"><span style="font-size: 9pt"><span style="color: #003399"><span style="font-size: 9pt"><span style="color: #003399"><span style="font-size: 9pt"><span style="color: #003399"><span style="font-size: 9pt"><span style="color: #003399"><span style="font-size: 9pt"><span style="color: #003399"><span style="font-size: 9pt"><span style="color: #003399"><span style="font-size: 9pt"><span style="color: #003399"><span style="font-size: 9pt"><span style="color: #003399"><span style="font-size: 9pt"><span style="color: #003399"><span style="font-size: 9pt"><span style="color: #003399"><span style="font-size: 9pt"><span style="color: #003399"><span style="font-size: 9pt"><span style="color: #003399"><span style="font-size: 9pt"><span style="color: #003399"><span style="font-size: 9pt"><span style="color: #003399"><a href="http://www.nchispanicchamber.org/"><span style="font-size: 9pt"><span style="color: #003399"><span style="font-size: 9pt"><span style="color: #003399"><span style="font-size: 9pt"><span style="color: #003399"><span style="font-size: 9pt"><span style="color: #003399"><span style="font-size: 9pt"><span style="color: #003399"><span style="font-size: 9pt"><span style="color: #003399"><span style="font-size: 9pt"><span style="color: #003399"><span style="font-size: 9pt"><span style="color: #003399"><span style="font-size: 9pt"><span style="color: #003399"><span style="font-size: 9pt"><span style="color: #003399"><span style="font-size: 9pt"><span style="color: #003399"><span style="font-size: 9pt"><span style="color: #003399"><span style="font-size: 9pt"><span style="color: #003399"><span style="font-size: 9pt"><span style="color: #003399"><span style="font-size: 9pt"><span style="color: #003399"><span style="font-size: 9pt"><span style="color: #003399"><span style="font-size: 9pt"><span style="color: #003399"><span style="font-size: 9pt"><span style="color: #003399"><span style="font-size: 9pt"><span style="color: #003399"><span style="font-size: 9pt"><span style="color: #003399"><span style="font-size: 9pt"><span style="color: #003399"><span style="font-size: 9pt"><span style="color: #003399"><span style="font-size: 9pt"><span style="color: #003399"><span style="font-size: 9pt"><span style="color: #003399"><span style="font-size: 9pt"><span style="color: #003399"><span style="font-size: 9pt"><span style="color: #003399"><span style="font-size: 9pt"><span style="color: #003399"><span style="font-size: 9pt"><span style="color: #003399"><span style="font-size: 9pt"><span style="color: #003399"><span style="font-size: 9pt"><span style="color: #003399"><span style="font-size: 9pt"><span style="color: #003399"><span style="font-size: 9pt"><span style="color: #003399"><a href="http://www.nchispanicchamber.org/"><span style="font-size: 9pt"><span style="color: #003399"><span style="font-size: 9pt"><span style="color: #003399"><span style="font-size: 9pt"><span style="color: #003399"><span style="font-size: 9pt"><span style="color: #003399"><span style="font-size: 9pt"><span style="color: #003399"><span style="font-size: 9pt"><span style="color: #003399"><span style="font-size: 9pt"><span style="color: #003399"><span style="font-size: 9pt"><span style="color: #003399"><span style="font-size: 9pt"><span style="color: #003399"><span style="font-size: 9pt"><span style="color: #003399"><span style="font-size: 9pt"><span style="color: #003399"><span style="font-size: 9pt"><span style="color: #003399"><span style="font-size: 9pt"><span style="color: #003399"><span style="font-size: 9pt"><span style="color: #003399"><span style="font-size: 9pt"><span style="color: #003399"><span style="font-size: 9pt"><span style="color: #003399"><span style="font-size: 9pt"><span style="color: #003399"><span style="font-size: 9pt"><span style="color: #003399"><span style="font-size: 9pt"><span style="color: #003399"><span style="font-size: 9pt"><span style="color: #003399"><span style="font-size: 9pt"><span style="color: #003399"><span style="font-size: 9pt"><span style="color: #003399"><span style="font-size: 9pt"><span style="color: #003399"><span style="font-size: 9pt"><span style="color: #003399"><span style="font-size: 9pt"><span style="color: #003399"><span style="font-size: 9pt"><span style="color: #003399"><span style="font-size: 9pt"><span style="color: #003399"><span style="font-size: 9pt"><span style="color: #003399"><span style="font-size: 9pt"><span style="color: #003399"><span style="font-size: 9pt"><span style="color: #003399"><span style="font-size: 9pt"><span style="color: #003399"><span style="font-size: 9pt"><span style="color: #003399"><span style="font-size: 9pt"><span style="color: #003399"><span style="font-size: 9pt"><span style="color: #003399"><span style="font-size: 9pt"><span style="color: #003399"><span style="font-size: 9pt"><span style="color: #003399"><span style="font-size: 9pt"><span style="color: #003399"><span style="font-size: 9pt"><span style="color: #003399"><span style="font-size: 9pt"><span style="color: #003399"><span style="font-size: 9pt"><span style="color: #003399"><span style="font-size: 9pt"><span style="color: #003399"><span style="font-size: 9pt"><span style="color: #003399"><span style="font-size: 9pt"><span style="color: #003399"><span style="font-size: 9pt"><span style="color: #003399"><span style="font-size: 9pt"><span style="color: #003399"><span style="font-size: 9pt"><span style="color: #003399"><span style="font-size: 9pt"><span style="color: #003399"><span style="font-size: 9pt"><span style="color: #003399"><span style="font-size: 9pt"><span style="color: #003399"><span style="font-size: 9pt"><span style="color: #003399"><span style="font-size: 9pt"><span style="color: #003399"><span style="font-size: 9pt"><span style="color: #003399"><span style="font-size: 9pt"><span style="color: #003399"><span style="font-size: 9pt"><span style="color: #003399"><span style="font-size: 9pt"><span style="color: #003399"><span style="font-size: 9pt"><span style="color: #003399"><span style="font-size: 9pt"><span style="color: #003399"><span style="font-size: 9pt"><span style="color: #003399"><span style="font-size: 9pt"><span style="color: #003399"><span style="font-size: 9pt"><span style="color: #003399"><span style="font-size: 9pt"><span style="color: #003399"><span style="font-size: 9pt"><span style="color: #003399"><span style="font-size: 9pt"><span style="color: #003399"><span style="font-size: 9pt"><span style="color: #003399"><a href="http://www.nchispanicchamber.org/"><span style="font-size: 9pt"><span style="color: #003399"><span style="font-size: 9pt"><span style="color: #003399"><span style="font-size: 9pt"><span style="color: #003399"><span style="font-size: 9pt"><span style="color: #003399"><span style="font-size: 9pt"><span style="color: #003399"><span style="font-size: 9pt"><span style="color: #003399"><span style="font-size: 9pt"><span style="color: #003399"><span style="font-size: 9pt"><span style="color: #003399"><span style="font-size: 9pt"><span style="color: #003399"><span style="font-size: 9pt"><span style="color: #003399"><span style="font-size: 9pt"><span style="color: #003399"><span style="font-size: 9pt"><span style="color: #003399"><span style="font-size: 9pt"><span style="color: #003399"><span style="font-size: 9pt"><span style="color: #003399"><span style="font-size: 9pt"><span style="color: #003399"><span style="font-size: 9pt"><span style="color: #003399"><span style="font-size: 9pt"><span style="color: #003399"><span style="font-size: 9pt"><span style="color: #003399"><span style="font-size: 9pt"><span style="color: #003399"><span style="font-size: 9pt"><span style="color: #003399"><span style="font-size: 9pt"><span style="color: #003399"><span style="font-size: 9pt"><span style="color: #003399"><span style="font-size: 9pt"><span style="color: #003399"><span style="font-size: 9pt"><span style="color: #003399"><span style="font-size: 9pt"><span style="color: #003399"><span style="font-size: 9pt"><span style="color: #003399"><span style="font-size: 9pt"><span style="color: #003399"><span style="font-size: 9pt"><span style="color: #003399"><span style="font-size: 9pt"><span style="color: #003399"><span style="font-size: 9pt"><span style="color: #003399"><span style="font-size: 9pt"><span style="color: #003399"><span style="font-size: 9pt"><span style="color: #003399"><span style="font-size: 9pt"><span style="color: #003399"><span style="font-size: 9pt"><span style="color: #003399"><span style="font-size: 9pt"><span style="color: #003399"><span style="font-size: 9pt"><span style="color: #003399"><span style="font-size: 9pt"><span style="color: #003399"><span style="font-size: 9pt"><span style="color: #003399"><span style="font-size: 9pt"><span style="color: #003399"><span style="font-size: 9pt"><span style="color: #003399"><span style="font-size: 9pt"><span style="color: #003399"><span style="font-size: 9pt"><span style="color: #003399"><span style="font-size: 9pt"><span style="color: #003399"><span style="font-size: 9pt"><span style="color: #003399"><span style="font-size: 9pt"><span style="color: #003399"><span style="font-size: 9pt"><span style="color: #003399"><span style="font-size: 9pt"><span style="color: #003399"><span style="font-size: 9pt"><span style="color: #003399"><span style="font-size: 9pt"><span style="color: #003399"><span style="font-size: 9pt"><span style="color: #003399"><span style="font-size: 9pt"><span style="color: #003399"><span style="font-size: 9pt"><span style="color: #003399"><span style="font-size: 9pt"><span style="color: #003399"><span style="font-size: 9pt"><span style="color: #003399"><span style="font-size: 9pt"><span style="color: #003399"><span style="font-size: 9pt"><span style="color: #003399"><span style="font-size: 9pt"><span style="color: #003399"><span style="font-size: 9pt"><span style="color: #003399"><span style="font-size: 9pt"><span style="color: #003399"><span style="font-size: 9pt"><span style="color: #003399"><span style="font-size: 9pt"><span style="color: #003399"><span style="font-size: 9pt"><span style="color: #003399"><span style="font-size: 9pt"><span style="color: #003399"><span style="font-size: 9pt"><span style="color: #003399"><span style="font-size: 9pt"><span style="color: #003399"><span style="font-size: 9pt"><span style="color: #003399"><span style="font-size: 9pt"><span style="color: #003399"><span style="font-size: 9pt"><span style="color: #003399"><span style="font-size: 9pt"><span style="color: #003399"><span style="font-size: 9pt"><span style="color: #003399"><span style="font-size: 9pt"><span style="color: #003399"><span style="font-size: 9pt"><span style="color: #003399"><span style="font-size: 9pt"><span style="color: #003399"><span style="font-size: 9pt"><span style="color: #003399"><span style="font-size: 9pt"><span style="color: #003399"><span style="font-size: 9pt"><span style="color: #003399"><span style="font-size: 9pt"><span style="color: #003399"><span style="font-size: 9pt"><span style="color: #003399"><span style="font-size: 9pt"><span style="color: #003399"><span style="font-size: 9pt"><span style="color: #003399"><span style="font-size: 9pt"><span style="color: #003399"><span style="font-size: 9pt"><span style="color: #003399"><span style="font-size: 9pt"><span style="color: #003399"><span style="font-size: 9pt"><span style="color: #003399"><span style="font-size: 9pt"><span style="color: #003399"><span style="font-size: 9pt"><span style="color: #003399"><span style="font-size: 9pt"><span style="color: #003399"><span style="font-size: 9pt"><span style="color: #003399"><span style="font-size: 9pt"><span style="color: #003399"><span style="font-size: 9pt"><span style="color: #003399"><span style="font-size: 9pt"><span style="color: #003399"><span style="font-size: 9pt"><span style="color: #003399"><span style="font-size: 9pt"><span style="color: #003399"><span style="font-size: 9pt"><span style="color: #003399"><span style="font-size: 9pt"><span style="color: #003399"><span style="font-size: 9pt"><span style="color: #003399"><span style="font-size: 9pt"><span style="color: #003399"><span style="font-size: 9pt"><span style="color: #003399"><span style="font-size: 9pt"><span style="color: #003399"><span style="font-size: 9pt"><span style="color: #003399"><span style="font-size: 9pt"><span style="color: #003399"><span style="font-size: 9pt"><span style="color: #003399"><span style="font-size: 9pt"><span style="color: #003399"><span style="font-size: 9pt"><span style="color: #003399"><span style="font-size: 9pt"><span style="color: #003399"><span style="font-size: 9pt"><span style="color: #003399"><span style="font-size: 9pt"><span style="color: #003399"><span style="font-size: 9pt"><span style="color: #003399"><span style="font-size: 9pt"><span style="color: #003399"><span style="font-size: 9pt"><span style="color: #003399"><span style="font-size: 9pt"><span style="color: #003399"><span style="font-size: 9pt"><span style="color: #003399"><span style="font-size: 9pt"><span style="color: #003399"><span style="font-size: 9pt"><span style="color: #003399"><span style="font-size: 9pt"><span style="color: #003399"><span style="font-size: 9pt"><span style="color: #003399"><span style="font-size: 9pt"><span style="color: #003399"><span style="font-size: 9pt"><span style="color: #003399"><span style="font-size: 9pt"><span style="color: #003399"><span style="font-size: 9pt"><span style="color: #003399"><span style="font-size: 9pt"><span style="color: #003399"><span style="font-size: 9pt"><span style="color: #003399"><span style="font-size: 9pt"><span style="color: #003399"><span style="font-size: 9pt"><span style="color: #003399"><span style="font-size: 9pt"><span style="color: #003399"><span style="font-size: 9pt"><span style="color: #003399"><span style="font-size: 9pt"><span style="color: #003399"><span style="font-size: 9pt"><span style="color: #003399"><a href="http://www.nchispanicchamber.org/"><span style="color: blue"><span style="font-family: calibri">www.nchispanicchamber.org</span></span></a></span></span></span></span></span></span></span></span></span></span></span></span></span></span></span></span></span></span></span></span></span></span></span></span></span></span></span></span></span></span></span></span></span></span></span></span></span></span></span></span></span></span></span></span></span></span></span></span></span></span></span></span></span></span></span></span></span></span></span></span></span></span></span></span></span></span></span></span></span></span></span></span></span></span></span></span></span></span></span></span></span></span></span></span></span></span></span></span></span></span></span></span></span></span></span></span></span></span></span></span></span></span></span></span></span></span></span></span></span></span></span></span></span></span></span></span></span></span></span></span></span></span></span></span></span></span></span></span></span></span></span></span></span></span></span></span></span></span></span></span></span></span></span></span></span></span></span></span></span></span></span></span></span></span></span></span></span></span></span></span></span></span></span></span></span></span></span></span></span></span></span></span></span></span></span></span></span></span></span></span></span></span></span></span></span></span></span></span></span></span></span></span></span></span></span></span></span></span></span></span></span></span></span></span></span></span></span></span></span></span></span></span></span></span></span></span></span></span></span></span></span></span></span></span></span></span></span></span></span></span></span></span></span></span></span></span></span></span></span></span></span></span></span></span></span></span></span></span></span></span></span></span></span></span></span></span></a></span></span></span></span></span></span></span></span></span></span></span></span></span></span></span></span></span></span></span></span></span></span></span></span></span></span></span></span></span></span></span></span></span></span></span></span></span></span></span></span></span></span></span></span></span></span></span></span></span></span></span></span></span></span></span></span></span></span></span></span></span></span></span></span></span></span></span></span></span></span></span></span></span></span></span></span></span></span></span></span></span></span></span></span></span></span></span></span></span></span></span></span></span></span></span></span></span></span></span></span></span></span></span></span></span></span></span></span></span></span></span></span></span></span></span></span></span></span></span></span></span></span></span></span></span></span></span></span></a></span></span></span></span></span></span></span></span></span></span></span></span></span></span></span></span></span></span></span></span></span></span></span></span></span></span></span></span></span></span></span></span></span></span></span></span></span></span></span></span></span></span></span></span></span></span></span></span></span></span></span></span></span></span></span></span></span></span></span></span></span></span></span></span></a></span></span></span></span></span></span></span></span></span></span></span></span></span></span></span></span></span></span></span></span></span></span></span></span></span></span></span></span></span></span></span></span></a></span></span></span></span></span></span></span></span></span></span></span></span></span></span></span></span></a></span></span></span></span></span></span></span></span></a></span></span></span></span></a></span></span></a></span></span></div>\n
LOCATION:Sede Cooperativa Latina 155 Bonanza Drive Suite 103 Fayetteville\, NC 28303
UID:e.1552.52
SEQUENCE:3
DTSTAMP:20260426T024344Z
URL:https://mobile.nchispanicchamber.org/events/details/emprendedores-nc-fayetteville-04-27-2013-52
END:VEVENT

END:VCALENDAR
