BEGIN:VCALENDAR
VERSION:2.0
PRODID:-//ChamberMaster//Event Calendar 2.0//EN
METHOD:PUBLISH
X-PUBLISHED-TTL:P3D
REFRESH-INTERVAL:P3D
CALSCALE:GREGORIAN
BEGIN:VEVENT
DTSTART:20140928T170000Z
DTEND:20140928T200000Z
X-MICROSOFT-CDO-ALLDAYEVENT:FALSE
SUMMARY:Event at Town of Garner - Carnaval Latino
DESCRIPTION:La ciudad de Garner le da la bienvenida para asistir a la segunda edici n del festival Latino Carnaval anual. El festival se llevar  a cabo el Domingo\, 28 de Septiembre desde las 1:00 p.m. a las 4:00 p.m.  Se llevar  a cabo llueva o haga sol\, atr s de el centro de artes escenicas de Garner.  (Garner Performing Arts Center) (En caso de mal clima\, todos los eventos seran adentro.)\n\n \n\nP ngase en contacto con Jill McAllister si usted tiene una empresa interesada en participar en el festival: jmcallister@garnernc.gov.
X-ALT-DESC;FMTTYPE=text/html:<p class="MsoNormal" style="margin: 0in 0in 0pt\;"><font face="Calibri"><font color="#000000"><span style="font-size: 10pt\;">La ciudad de Garner le da la bienvenida para asistir a la segunda edici&oacute\;n del festival Latino Carnaval anual. </span><span style="font-size: 10pt\; mso-bidi-font-family: Arial\;">El festival se llevar&aacute\; a cabo el Domingo\, 28 de Septiembre desde las 1:00 p.m. a las 4:00 p.m.<span style="mso-spacerun: yes\;">&nbsp\; </span>Se llevar&aacute\; a cabo llueva o haga sol\, atr&aacute\;s de el centro de artes escenicas de Garner.<span style="mso-spacerun: yes\;">&nbsp\; </span>(Garner Performing Arts Center) (En caso de mal clima\, todos los eventos seran adentro.)</span></font></font></p>\n\n<p class="MsoNormal" style="margin: 0in 0in 0pt\;"><span style="font-size: 10pt\;"><font color="#000000" face="Calibri">&nbsp\;</font></span></p>\n\n<div><span lang="EN" style="color: rgb(34\, 34\, 34)\; font-family:\;">P&oacute\;ngase en contacto con Jill McAllister si usted tiene una empresa interesada en participar en el festival:</span><span lang="EN" style="font-family:\;"><font color="#000000"> </font></span><span style="font-family:\;"><a href="mailto:jmcallister@garnernc.gov"><font color="#0000ff">jmcallister@garnernc.gov</font></a><font color="#0000ff"><font color="#000000">.</font></font></span></div>\n
LOCATION:125 Avery Street\, Garner\, NC 27529
UID:e.1552.121
SEQUENCE:3
DTSTAMP:20260424T192327Z
URL:https://mobile.nchispanicchamber.org/events/details/event-at-town-of-garner-carnaval-latino-09-28-2014-121
END:VEVENT

END:VCALENDAR
