BEGIN:VCALENDAR
VERSION:2.0
PRODID:-//ChamberMaster//Event Calendar 2.0//EN
METHOD:PUBLISH
X-PUBLISHED-TTL:P3D
REFRESH-INTERVAL:P3D
CALSCALE:GREGORIAN
BEGIN:VEVENT
DTSTART:20130517T130000Z
DTEND:20130517T200000Z
X-MICROSOFT-CDO-ALLDAYEVENT:FALSE
SUMMARY:Exhibits & Job Fair
DESCRIPTION:Exhibits & Job Fair\n\n\n\nThis is a free job fair for job seekers.\n\nSponsorships and exhibit tables are available.
X-ALT-DESC;FMTTYPE=text/html:<span style="font-size: 15pt"><span style="color: black"><span style="font-family: trebuchet ms\, sans-serif"><strong>Exhibits &amp\; Job Fair<br />\n<br />\n<font color="#000000" size="3">This is a free job fair for job seekers.<br />\nSponsorships and exhibit tables are available.</font></strong></span></span></span>
LOCATION:Radisson Research Triangle Park Hotel near RDU Airport 150 Park Dr Durham\, NC 27709
UID:e.1552.50
SEQUENCE:3
DTSTAMP:20260426T000256Z
URL:https://mobile.nchispanicchamber.org/events/details/exhibits-job-fair-05-17-2013-50
END:VEVENT

END:VCALENDAR
