BEGIN:VCALENDAR
VERSION:2.0
PRODID:-//ChamberMaster//Event Calendar 2.0//EN
METHOD:PUBLISH
X-PUBLISHED-TTL:P3D
REFRESH-INTERVAL:P3D
CALSCALE:GREGORIAN
BEGIN:VEVENT
DTSTART:20130825T130000Z
DTEND:20130825T210000Z
X-MICROSOFT-CDO-ALLDAYEVENT:FALSE
SUMMARY:Fiesta de la Paz 2013
DESCRIPTION:The Costa Rican Association\n\n	of North Carolina invites you to the\n\n	 \n\n	FIESTA DE LA PAZ 2013\n\n	To Celebrate\n\n	Costa Rica Independence Day\n\n	\n		Delicious Food\n	\n		Typical Dance and Masquerades\n	\n		Soccer Championship for Adults\n	\n		Soccer Clinic with the Railhawks\n	\n		Civic Act\, Music and much more....\n\n\n	Special Guest\n\n	Sofi Cascante - Tica Linda 2011\n\n	\n\n	For More Info: (919) 795 1154\n\n	www.ticosnc.net\n\n	ticosnc@yahoo.com
X-ALT-DESC;FMTTYPE=text/html:<div style="text-align: center">\n	<br />\n	<strong>The Costa Rican Association<br />\n	of North Carolina invites you to the</strong><br />\n	&nbsp\;</div>\n<p style="text-align: center">\n	<span style="font-size: 18px"><span style="color: #000080"><span style="font-family: comic sans ms">FIESTA DE LA PAZ 2013</span></span></span><br />\n	<u><strong>To Celebrate<br />\n	Costa Rica Independence Day</strong></u></p>\n<ul>\n	<li>\n		Delicious Food</li>\n	<li>\n		Typical Dance and Masquerades</li>\n	<li>\n		Soccer Championship for Adults</li>\n	<li>\n		Soccer Clinic with the Railhawks</li>\n	<li>\n		Civic Act\, Music and much more....</li>\n</ul>\n<div style="text-align: center">\n	Special Guest<br />\n	<span style="font-size: 14px"><span style="color: #000080"><span style="font-family: comic sans ms">Sofi Cascante - Tica Linda 2011</span></span></span><br />\n	<br />\n	For More Info: (919) 795 1154<br />\n	www.ticosnc.net<br />\n	<a href="mailto:ticosnc@yahoo.com">ticosnc@yahoo.com</a><br />\n	&nbsp\;</div>\n
LOCATION:Lake Wheeler Park 6404 Lake Wheeler Park Raleigh\, NC 27603
UID:e.1552.72
SEQUENCE:3
DTSTAMP:20260425T192435Z
URL:https://mobile.nchispanicchamber.org/events/details/fiesta-de-la-paz-2013-08-25-2013-72
END:VEVENT

END:VCALENDAR
