BEGIN:VCALENDAR
VERSION:2.0
PRODID:-//ChamberMaster//Event Calendar 2.0//EN
METHOD:PUBLISH
X-PUBLISHED-TTL:P3D
REFRESH-INTERVAL:P3D
CALSCALE:GREGORIAN
BEGIN:VEVENT
DTSTART:20140907T130000Z
DTEND:20140907T210000Z
X-MICROSOFT-CDO-ALLDAYEVENT:FALSE
SUMMARY:Fiesta de la Paz 2014
DESCRIPTION:La Asociaci n Costarricense de\n\nCarolina del Norte te invita a la\n\n \n\nFIESTA DE LA PAZ 2014\n\nEn Conmemoraci n a la\n\nIndependencia de Costa Rica\n\n\n	Deliciosas Comidas Tipicas\n	Bailes Tipicos y Mascaradas\n	Campeonato de Futbol\n	Comptencia de Trajes Tipicos\n	Acto C vico\, M sica y mucho m s....\n\n\nInvitado Especial desde Costa Rica\n\nMauricio Chac n Picado- Famoso Dise ador Floral\n\n\n\nM s informaci n: (919) 795 1154\n\nwww.ticosnc.net\n\nticosnc@yahoo.com
X-ALT-DESC;FMTTYPE=text/html:<div style="text-align: center\;"><br />\n<strong>La Asociaci&oacute\;n Costarricense de<br />\nCarolina del Norte te invita a la</strong><br />\n&nbsp\;</div>\n\n<p style="text-align: center\;"><span style="font-size: 18px\;"><span style="color: rgb(0\, 0\, 128)\;"><span style="font-family: comic sans ms\;">FIESTA DE LA PAZ 2014</span></span></span><br />\n<u><strong>En Conmemoraci&oacute\;n a la<br />\nIndependencia de Costa Rica</strong></u></p>\n\n<ul>\n	<li>Deliciosas Comidas Tipicas</li>\n	<li>Bailes Tipicos y&nbsp\;Mascaradas</li>\n	<li>Campeonato de Futbol</li>\n	<li>Comptencia de Trajes Tipicos</li>\n	<li>Acto C&iacute\;vico\, M&uacute\;sica y mucho m&aacute\;s....</li>\n</ul>\n\n<div style="text-align: center\;">Invitado Especial desde Costa Rica<br />\n<span style="font-size: 14px\;"><span style="color: rgb(0\, 0\, 128)\;"><span style="font-family: comic sans ms\;">Mauricio Chac&oacute\;n Picado- Famoso Dise&ntilde\;ador Floral</span></span></span><br />\n<br />\nM&aacute\;s informaci&oacute\;n: (919) 795 1154<br />\nwww.ticosnc.net<br />\n<a href="mailto:ticosnc@yahoo.com">ticosnc@yahoo.com</a><br />\n&nbsp\;</div>\n
LOCATION:Lake Wheeler Park 6404 Lake Wheeler Park Raleigh\, NC 27603
UID:e.1552.118
SEQUENCE:3
DTSTAMP:20260424T193123Z
URL:https://mobile.nchispanicchamber.org/events/details/fiesta-de-la-paz-2014-09-07-2014-118
END:VEVENT

END:VCALENDAR
