BEGIN:VCALENDAR
VERSION:2.0
PRODID:-//ChamberMaster//Event Calendar 2.0//EN
METHOD:PUBLISH
X-PUBLISHED-TTL:P3D
REFRESH-INTERVAL:P3D
CALSCALE:GREGORIAN
BEGIN:VEVENT
DTSTART:20150920T130000Z
DTEND:20150920T210000Z
X-MICROSOFT-CDO-ALLDAYEVENT:FALSE
SUMMARY:Fiesta de la Paz 2015
DESCRIPTION:La Asociaci n Costarricense de\n\nCarolina del Norte te invita a la\n\nFIESTA DE LA PAZ 2015\n\nEn Conmemoraci n a la\n\nIndependencia de Costa Rica\n\nDeliciosa Comiday reposteria Tica\n\nTorneo de Futbol para adultos\n\nActo Civico\, Danzas Folcloricas\n\nJardin infantil inflable y mucho m s....\nInformes: (919) 795 1154\n\nwww.ticosnc.net\n\nticosnc@yahoo.com
X-ALT-DESC;FMTTYPE=text/html:<div style="text-align: center\;"><strong>La Asociaci&oacute\;n Costarricense de<br />\nCarolina del Norte te invita a la</strong><br />\n<span style="font-size: 18px\;"><span style="color: rgb(0\, 0\, 128)\;"><span style="font-family: comic sans ms\;">FIESTA DE LA PAZ 2015</span></span></span><br />\n<u><strong>En Conmemoraci&oacute\;n a la<br />\nIndependencia de Costa Rica</strong></u><br />\nDeliciosa Comiday reposteria&nbsp\;Tica<br />\nTorneo de Futbol para adultos<br />\nActo Civico\, Danzas Folcloricas<br />\nJardin infantil inflable y&nbsp\;mucho m&aacute\;s....\n<div style="text-align: center\;">Informes: (919) 795 1154<br />\nwww.ticosnc.net<br />\n<a href="mailto:ticosnc@yahoo.com"><font color="#0066cc">ticosnc@yahoo.com</font></a></div>\n</div>\n
LOCATION:Lake Wheeler Park 6404 Lake Wheeler Park Raleigh\, NC 27603
UID:e.1552.193
SEQUENCE:3
DTSTAMP:20260421T205309Z
URL:https://mobile.nchispanicchamber.org/events/details/fiesta-de-la-paz-2015-09-20-2015-193
END:VEVENT

END:VCALENDAR
