BEGIN:VCALENDAR
VERSION:2.0
PRODID:-//ChamberMaster//Event Calendar 2.0//EN
METHOD:PUBLISH
X-PUBLISHED-TTL:P3D
REFRESH-INTERVAL:P3D
CALSCALE:GREGORIAN
BEGIN:VEVENT
DTSTART:20150720T130000Z
DTEND:20150724T170000Z
X-MICROSOFT-CDO-ALLDAYEVENT:FALSE
SUMMARY:Financial Literacy for Kids Summer Camp
DESCRIPTION:Sponsored by PNC\n\nYour kids will have fun learning\nthe basics of how to manage their \nmoney and save for the future!\n\n\n\n Sus hijos se divertir n aprendiendo \nconceptos b sicos sobre c mo administrar \nsu dinero y ahorrar para el futuro!\n\n5 Sessions for the campers to play fun money games \nthat teach different financial skills. \n\n\n\n5 sesiones para que los campistas se diviertan mientras \nque aprenden sobre diferentes habilidades financieras. \n\n\n\nRegistration ends / La registraci n se acaba: 7/13/15
X-ALT-DESC;FMTTYPE=text/html:<pre>\n<span style="font-size: 14px\;"><span style="color: rgb(33\, 33\, 33)\;"><span style="font-family: avenir black\;">Sponsored by PNC\n\nYour kids will have fun learning\nthe basics of how to manage their \nmoney and save for the future!</span></span>\n</span></pre>\n\n<pre>\n<span style="font-size: 14px\;"><span style="color: rgb(33\, 33\, 33)\;"><span style="font-family: avenir black\;">&iexcl\;Sus hijos se divertir&aacute\;n aprendiendo \nconceptos b&aacute\;sicos sobre c&oacute\;mo administrar \nsu dinero y ahorrar para el futuro!\n</span></span></span>\n<span style="font-size: 14px\;"><span style="font-family: avenir black\;">5 Sessions for the campers to play fun money games \n</span><span style="font-family: avenir black\;">that teach different financial skills.</span><span style="color: rgb(33\, 33\, 33)\;"><span style="font-family: avenir black\;"> </span></span>\n</span></pre>\n\n<pre>\n<span style="font-size: 14px\;"><span style="color: rgb(33\, 33\, 33)\;"><span style="font-family: avenir black\;">5 sesiones para que los campistas se diviertan mientras \nque aprenden sobre diferentes habilidades financieras. </span></span>\n</span></pre>\n\n<pre>\n<span style="font-size: 14px\;"><span style="color: rgb(33\, 33\, 33)\;"><span style="font-family: avenir black\;">Registration ends / La registraci&oacute\;n se acaba: 7/13/15 </span></span></span></pre>\n
LOCATION:5800 Faringdon Place. Raleigh\, NC 27609
UID:e.1552.183
SEQUENCE:3
DTSTAMP:20260422T002955Z
URL:https://mobile.nchispanicchamber.org/events/details/financial-literacy-for-kids-summer-camp-07-20-2015-183
END:VEVENT

END:VCALENDAR
