BEGIN:VCALENDAR
VERSION:2.0
PRODID:-//ChamberMaster//Event Calendar 2.0//EN
METHOD:PUBLISH
X-PUBLISHED-TTL:P3D
REFRESH-INTERVAL:P3D
CALSCALE:GREGORIAN
BEGIN:VEVENT
DTSTART:20141216T230000Z
DTEND:20141217T010000Z
X-MICROSOFT-CDO-ALLDAYEVENT:FALSE
SUMMARY:Foro Informativo sobre Acción Ejecutiva |Informational Workshop about the Executive Action
DESCRIPTION:Informational Workshop about the Executive Action\n\nannounced by President Barack Obama\n\nThe latest update on immigration and its processes.\n\n \n\nTopics covered:\n\nPreparing for Executive Action\n\nRenewal Deferred Action \n\nProvisional Waivers\n\nand more\n\n--\n\nForo Informativo sobre La Acci n Ejecutiva\n\nanunciada por el presidente Barack Obama\n\n.\n\nLa m s reciente actualizaci n sobre immigraci n y sus procesos.\n\n\n\nTemas a tratar:\n\nC mo prepararse para la Acci n Ejecutiva\n\nRenovaci n Acci n Diferida (Daca)\n\nPerdones provisionales\n\ny mucho mas!\n\n \n\nTuesday\, December 16\, 2014\n\nMartes\, Diciembre 16\, 2014\n\n6:00 pm a 8:00 pm\n\n\n\nNC Hispanic Chamber of Commerce\n\n5800 Faringdon place\n\nRaleigh\, NC 27609\n\n\n\n(919) 782-8764
X-ALT-DESC;FMTTYPE=text/html:<div style="text-align: center\;"><span style="font-size: 14px\;"><span style="font-family: calibri\;">Informational Workshop about the Executive Action<br />\nannounced by President Barack Obama</span><br />\n<span style="font-family: calibri\;">The latest update on immigration and its processes.</span><br />\n&nbsp\;<br />\n<span style="font-family: calibri\;">Topics covered:</span><br />\n<span style="font-family: calibri\;">Preparing for Executive Action</span><br />\n<span style="font-family: calibri\;">Renewal Deferred Action </span><br />\n<span style="font-family: calibri\;">Provisional Waivers</span><br />\n<span style="font-family: calibri\;">and more</span></span><br />\n--<br />\nForo Informativo sobre La Acci&oacute\;n Ejecutiva<br />\nanunciada por el presidente Barack Obama<br />\n.<br />\nLa m&aacute\;s reciente actualizaci&oacute\;n sobre immigraci&oacute\;n y sus procesos.<br />\n<br />\nTemas a tratar:<br />\nC&oacute\;mo prepararse para la Acci&oacute\;n Ejecutiva<br />\nRenovaci&oacute\;n Acci&oacute\;n Diferida (Daca)<br />\nPerdones provisionales<br />\ny mucho mas!<br />\n&nbsp\;<br />\nTuesday\, December 16\, 2014<br />\nMartes\, Diciembre 16\, 2014<br />\n6:00 pm a 8:00 pm<br />\n<br />\nNC Hispanic Chamber of Commerce<br />\n5800 Faringdon place<br />\nRaleigh\, NC 27609<br />\n<br />\n(919) 782-8764</div>\n
LOCATION:NC Hispanic Chamber of Commerce 5800 Faringdon Place Raleigh\, NC 27609
UID:e.1552.138
SEQUENCE:3
DTSTAMP:20260424T125918Z
URL:https://mobile.nchispanicchamber.org/events/details/foro-informativo-sobre-acci&#243;n-ejecutiva-informational-workshop-about-the-executive-action-12-16-2014-138
END:VEVENT

END:VCALENDAR
