BEGIN:VCALENDAR
VERSION:2.0
PRODID:-//ChamberMaster//Event Calendar 2.0//EN
METHOD:PUBLISH
X-PUBLISHED-TTL:P3D
REFRESH-INTERVAL:P3D
CALSCALE:GREGORIAN
BEGIN:VEVENT
DTSTART:20150416T200000Z
DTEND:20150416T220000Z
X-MICROSOFT-CDO-ALLDAYEVENT:FALSE
SUMMARY:Forum on the new deferred action programs: DACA and DAPA
DESCRIPTION:You are cordially invited to a community forum on the new deferred action programs \n\nDACA and DAPA.\n\n\n\nHOSTED BY:\n\nBB&T\,\n\nEl Centro Hispano\,\n\nNC Justice Center\,\n\nNCCU Civil Litigation Clinic\, and\n\nThe Hispanic Law Student Association\n\n\n\nThursday\, April 16\, 20154-6 p.m.\n\n\n\nNCCU School of Law 640\n\nNelson St.Durham\, NC 27707\n\n\n\nRefreshments will be provided.\n\n\n\nR.S.V.P. no later than Monday\, April 13\, 2015\,\n\nto Teresa Mackey at TMackey@BBandT.com\n\nor 336-733-3303
X-ALT-DESC;FMTTYPE=text/html:<div style="text-align: center\;"><br />\nYou are cordially invited to a community forum on the new deferred action programs&nbsp\;<br />\nDACA and DAPA.<br />\n<br />\nHOSTED BY:<br />\nBB&amp\;T\,<br />\nEl Centro Hispano\,<br />\nNC Justice Center\,<br />\nNCCU Civil Litigation Clinic\, and<br />\nThe Hispanic Law Student Association<br />\n<br />\nThursday\, April 16\, 20154-6 p.m.<br />\n<br />\nNCCU School of Law 640<br />\nNelson St.Durham\, NC 27707<br />\n<br />\nRefreshments will be provided.<br />\n<br />\nR.S.V.P. no later than Monday\, April 13\, 2015\,<br />\nto Teresa Mackey at TMackey@BBandT.com<br />\nor 336-733-3303</div>\n
LOCATION:NCCU School of Law 640 Nelson St. Durham\, NC 27707
UID:e.1552.176
SEQUENCE:3
DTSTAMP:20260422T063127Z
URL:https://mobile.nchispanicchamber.org/events/details/forum-on-the-new-deferred-action-programs-daca-and-dapa-04-16-2015-176
END:VEVENT

END:VCALENDAR
