BEGIN:VCALENDAR
VERSION:2.0
PRODID:-//ChamberMaster//Event Calendar 2.0//EN
METHOD:PUBLISH
X-PUBLISHED-TTL:P3D
REFRESH-INTERVAL:P3D
CALSCALE:GREGORIAN
BEGIN:VEVENT
DTSTART:20150409T213000Z
DTEND:20150409T230000Z
X-MICROSOFT-CDO-ALLDAYEVENT:FALSE
SUMMARY:GRAND OPENING & RIBBON CUTTING
DESCRIPTION:GRAND OPENING & RIBBON CUTTING \n\n \n\n \n\nDivine Fashion Boutique\n\nApril 9th at 5:30pm\n\n2001 Village Park Drive\n\nKnightdale\, NC 27545\n\n\n\nCome out and celebrate After Hours Grand Opening Kick Off\n\nfor Divine Fashion Boutique with owner\, Yaquelin Milla.
X-ALT-DESC;FMTTYPE=text/html:<div style="text-align: center\;"><br />\n<br />\n<strong><span style="font-size: 14px\;">GRAND OPENING &amp\; RIBBON CUTTING</span></strong><span style="font-size: 14px\;">&nbsp\;<br />\n&nbsp\;</span><br />\n&nbsp\;</div>\n\n<div style="text-align: center\;"><span style="font-size: 14px\;">Divine Fashion Boutique</span></div>\n\n<div style="text-align: center\;"><span style="font-size: 14px\;">April 9th&nbsp\;at 5:30pm<br />\n2001 Village Park Drive<br />\nKnightdale\, NC 27545<br />\n<br />\nCome out and celebrate After Hours Grand Opening Kick Off<br />\nfor&nbsp\;Divine Fashion Boutique&nbsp\;with owner\, Yaquelin Milla.</span></div>\n
LOCATION:Divine Fashion Boutique 2001 Village Park Drive Knightdale\, NC 27545
UID:e.1552.175
SEQUENCE:3
DTSTAMP:20260422T061417Z
URL:https://mobile.nchispanicchamber.org/events/details/grand-opening-ribbon-cutting-04-09-2015-175
END:VEVENT

END:VCALENDAR
