BEGIN:VCALENDAR
VERSION:2.0
PRODID:-//ChamberMaster//Event Calendar 2.0//EN
METHOD:PUBLISH
X-PUBLISHED-TTL:P3D
REFRESH-INTERVAL:P3D
CALSCALE:GREGORIAN
BEGIN:VEVENT
DTSTART:20160112T230000Z
DTEND:20160113T010000Z
X-MICROSOFT-CDO-ALLDAYEVENT:FALSE
SUMMARY:How to Start a Business -in Spanish- /Cómo Empezar Un Negocio -En Español-
DESCRIPTION:No quedan cupos disponibles | This event is full\n\n\n"Venga y aprenda C mo Empezar un Negocio.  -En Espa ol-\n\n Quiere empezar un negocio pero no sabe como? En esta sesi n le daremos informaci n general sobre cu les son los pasos a seguir para abrir su propio negocio. Algunos temas que trataremos ser n: como empezar su plan de negocios\, c mo financiar su negocio\, y como obtener las licencias y permisos necesarios del gobierno.\n\n\n\nJoin us for "How to Start a Business" in Spanish\n\nWant to start a business but don't know how? In this session we will give you general information how to open your own business. Some themes covered will be: how to start your business plan\, how to finance your business\, and how to get licenses and necessary government permits.\n\n\n\nSpeaker(s): Gustavo Rodea\n\n\n\nCo-Sponsor(s): Wake Tech Community College - Small Business Center\, Business & Industry Services Division\n\n\n\nRegister | Regitraciones:\n\n\n\nhttps://www.ncsbc.net/workshop.aspx?ekey=540360018
X-ALT-DESC;FMTTYPE=text/html:<div style="text-align: center\;"><span style="font-size: 16px\;"><strong>No quedan cupos disponibles | This event is full</strong></span></div>\n<br />\n&quot\;Venga y aprenda C&oacute\;mo Empezar un Negocio.&nbsp\;&nbsp\;-En Espa&ntilde\;ol-<br />\n&iquest\;Quiere empezar un negocio pero no sabe como? En esta sesi&oacute\;n le daremos informaci&oacute\;n general sobre cu&aacute\;les son los pasos a seguir para abrir su propio negocio. Algunos temas que trataremos ser&aacute\;n: como empezar su plan de negocios\, c&oacute\;mo financiar su negocio\, y como obtener las licencias y permisos necesarios del gobierno.<br />\n<br />\nJoin us for &quot\;How to Start a Business&quot\; in Spanish<br />\nWant to start a business but don&#39\;t know how? In this session we will give you general information how to open your own business. Some themes covered will be: how to start your business plan\, how to finance your business\, and how to get licenses and necessary government permits.<br />\n<br />\nSpeaker(s): Gustavo Rodea<br />\n<br />\nCo-Sponsor(s): Wake Tech Community College - Small Business Center\, Business &amp\; Industry Services Division<br />\n<br />\nRegister | Regitraciones:<br />\n<br />\n<a href="https://www.ncsbc.net/workshop.aspx?ekey=540360018">https://www.ncsbc.net/workshop.aspx?ekey=540360018</a>
LOCATION:NC Hispanic Chamber of Commerce 5800 Faringdon Place Raleigh\, NC 27609
UID:e.1552.199
SEQUENCE:3
DTSTAMP:20260421T133316Z
URL:https://mobile.nchispanicchamber.org/events/details/how-to-start-a-business-in-spanish-c&#243;mo-empezar-un-negocio-en-espa&#241;ol-01-12-2016-199
END:VEVENT

END:VCALENDAR
