BEGIN:VCALENDAR
VERSION:2.0
PRODID:-//ChamberMaster//Event Calendar 2.0//EN
METHOD:PUBLISH
X-PUBLISHED-TTL:P3D
REFRESH-INTERVAL:P3D
CALSCALE:GREGORIAN
BEGIN:VEVENT
DTSTART:20130507T123000Z
DTEND:20130507T140000Z
X-MICROSOFT-CDO-ALLDAYEVENT:FALSE
SUMMARY:IMMIGRATION POLICY BREAKFAST
DESCRIPTION:Immigration Reform in 2013: Challenges & Opportunities\nThe NC Hispanic Chamber is committed to immigration policies that create an attractive environment and a path to citizenship for talented\, educated immigrants\,  who contribute to the American economy.\n\n\n\nThe NC Hispanic Chamber is hosting a panel discussion on immigration reform.  Please consider attending this event. Space is limited\, please sign us ASAP.
X-ALT-DESC;FMTTYPE=text/html:<h1 class="title">\n	Immigration Reform in 2013: Challenges &amp\; Opportunities</h1>\n<span style="font-family: 'Lucida Bright'\; font-size: 12pt\; mso-fareast-font-family: 'MS Mincho'\; mso-ansi-language: EN-US\; mso-fareast-language: EN-US\; mso-bidi-language: AR-SA\; mso-bidi-font-family: 'Times New Roman'">The NC Hispanic Chamber is committed to immigration policies that create an attractive environment and a path to citizenship for talented\, educated immigrants\, <span style="mso-spacerun: yes">&nbsp\;</span>who contribute to the American economy.<br />\n<br />\nThe NC Hispanic Chamber is hosting a panel discussion on immigration reform.&nbsp\; Please consider attending this event. Space is limited\, please sign us ASAP.</span><br />\n
LOCATION:150 Fayetteville St #2800 Raleigh\, NC 27601
UID:e.1552.58
SEQUENCE:3
DTSTAMP:20260425T235938Z
URL:https://mobile.nchispanicchamber.org/events/details/immigration-policy-breakfast-05-07-2013-58
END:VEVENT

END:VCALENDAR
