BEGIN:VCALENDAR
VERSION:2.0
PRODID:-//ChamberMaster//Event Calendar 2.0//EN
METHOD:PUBLISH
X-PUBLISHED-TTL:P3D
REFRESH-INTERVAL:P3D
CALSCALE:GREGORIAN
BEGIN:VEVENT
DTSTART:20140906T220000Z
DTEND:20140906T160000Z
X-MICROSOFT-CDO-ALLDAYEVENT:FALSE
SUMMARY:La Noticia - Latin American Excelente Awards Gala 2014
DESCRIPTION:Info:  (704) 568-6966 x 100
X-ALT-DESC;FMTTYPE=text/html:<div style="text-align: center\;"><span style="font-size: 14px\;"><strong>Info:&nbsp\; (704) 568-6966 x 100</strong></span></div>\n
LOCATION:Hilton North Raleigh/Midtown 3415 Wake Forest Road Raleigh\, NC 27009
UID:e.1552.120
SEQUENCE:3
DTSTAMP:20260424T192403Z
URL:https://mobile.nchispanicchamber.org/events/details/la-noticia-latin-american-excelente-awards-gala-2014-09-06-2014-120
END:VEVENT

END:VCALENDAR
