BEGIN:VCALENDAR
VERSION:2.0
PRODID:-//ChamberMaster//Event Calendar 2.0//EN
METHOD:PUBLISH
X-PUBLISHED-TTL:P3D
REFRESH-INTERVAL:P3D
CALSCALE:GREGORIAN
BEGIN:VEVENT
DTSTART:20150829T220000Z
DTEND:20150829T160000Z
X-MICROSOFT-CDO-ALLDAYEVENT:FALSE
SUMMARY:La Noticia - Latin American Excelente Awards Gala 2015
DESCRIPTION:LATIN AMERICAN EXCELENTE AWARDS 2015\n\n\n\n-La Noticia-\n\n\n\nHilton North Raleigh. 3415 Wake Forest Road\n\n  Raleigh\, NC 27609\n\nSaturday\, August 29th\, 2015 - 6:00 p.m.\n\n\n\nReception - Gourmet Dinner - Awards Presentation - Dance and much more.\n\n\n\n\n\n\n\n\n\nMore Infomation:  (704) 568-6966 x 100\n\nwww.excelenteawards.com
X-ALT-DESC;FMTTYPE=text/html:<div style="text-align: center\;"><br />\n<span style="font-size: 14px\;"><strong>LATIN AMERICAN EXCELENTE AWARDS 2015<br />\n<br />\n<span style="font-size: 16px\;">-La Noticia-</span><br />\n<br />\nHilton North Raleigh. 3415 Wake Forest Road<br />\n&nbsp\; Raleigh\, NC 27609<br />\nSaturday\, August 29th\, 2015 - 6:00 p.m.<br />\n<br />\nReception - Gourmet Dinner - Awards Presentation - Dance and much more.<br />\n<br />\n<br />\n<br />\n<br />\nMore Infomation:&nbsp\; (704) 568-6966 x 100<br />\nwww.excelenteawards.com</strong></span><br />\n<br />\n&nbsp\;</div>\n
LOCATION:Hilton North Raleigh/Midtown 3415 Wake Forest Road Raleigh\, NC 27009
UID:e.1552.191
SEQUENCE:3
DTSTAMP:20260421T223052Z
URL:https://mobile.nchispanicchamber.org/events/details/la-noticia-latin-american-excelente-awards-gala-2015-08-29-2015-191
END:VEVENT

END:VCALENDAR
